BEGIN:VCALENDAR
VERSION:2.0
PRODID:-//ChamberMaster//Event Calendar 2.0//EN
METHOD:PUBLISH
X-PUBLISHED-TTL:P3D
REFRESH-INTERVAL:P3D
CALSCALE:GREGORIAN
BEGIN:VEVENT
DTSTART:20130122T220000Z
DTEND:20130123T000000Z
X-MICROSOFT-CDO-ALLDAYEVENT:FALSE
SUMMARY:West Virginia Symphony Open House 2013
DESCRIPTION:We invite you to join Maestro Grant Cooper\, West Virginia Symphony Orchestra and Charleston Area Alliance for a fun-filled evening at The Clay Center. This annual event\, hosted by the West Virginia Symphony Orchestra and the Charleston Area Alliance\, is the perfect opportunity to get to know your symphony\, the Alliance and network with other local business leaders. We hope you'll join us for backstage tours and learn more about how the WVSO impacts our state.\n\n	\n\n	This event is free\, however an RSVP is required. Visit the registration link above to let us know you plan to join us!
X-ALT-DESC;FMTTYPE=text/html:<p>\n	<span style="font-size: 12px\;"><span style="font-family: arial\;">We invite you to join Maestro Grant Cooper\, West Virginia Symphony Orchestra and Charleston Area Alliance for a fun-filled evening at The Clay Center.&nbsp\;This annual event\, hosted by the West Virginia Symphony Orchestra and the Charleston Area Alliance\, is the perfect opportunity to get to know your symphony\, the Alliance and network with other local business leaders. We hope you&rsquo\;ll join us for backstage tours and&nbsp\;learn more about how the WVSO impacts our state.<br />\n	<br />\n	This event is free\, however an RSVP is required. Visit the registration link above to let us know you plan to join us!</span></span></p>\n<p>\n	&nbsp\;</p>\n<p>\n	<br />\n	&nbsp\;&nbsp\;</p>\n
LOCATION:The Clay Center 1 Clay Square Charleston\, WV 25301 Grand Lobby
UID:e.1499.517
SEQUENCE:3
DTSTAMP:20260422T153559Z
URL:https://business.charlestonareaalliance.org/events/details/west-virginia-symphony-open-house-2013-01-22-2013-517
END:VEVENT

END:VCALENDAR
