BEGIN:VCALENDAR
VERSION:2.0
PRODID:-//ChamberMaster//Event Calendar 2.0//EN
METHOD:PUBLISH
X-PUBLISHED-TTL:P3D
REFRESH-INTERVAL:P3D
CALSCALE:GREGORIAN
BEGIN:VEVENT
DTSTART:20170422T130000Z
DTEND:20170422T160000Z
X-MICROSOFT-CDO-ALLDAYEVENT:FALSE
SUMMARY:West Virginia Make It Shine Clean Up
DESCRIPTION:Generation Charleston\, the Charleston Area Alliance's young talent organization\, is helping to ensure that the state's highways and public lands are free of trash as part of the West Virginia Department of Environmental Protection Make It Shine cleanup 9 a.m.   12 p.m. Saturday\, April 22. \n\n\n\nGeneration Charleston members and friends will pick up litter along U.S. 119\, off the Interstate 79 Mink Shoals exit to the entrance of Coonskin Park. Members will meet at 9 a.m. in the parking lot of the Sleep Inn\, located at 2772 Pennsylvania Ave.\n\n\n\nThe Make It Shine Program is a comprehensive program aimed at making West Virginia the cleanest state in the nation. Throughout the state\, groups of volunteers\, businesses\, community organizations and local governments are working to accomplish this goal. \n\n"Last year\, 5\,000 West Virginia citizens took time to pick up unsightly trash along our streams and public lands and we're hoping for another tremendous turnout this year\," said REAP Director Sandy Rogers. "Without our wonderful volunteers\, this cleanup program would not be the success it is. Their tireless efforts are making West Virginia a better place to visit and live." \n\n\n\nThe Make It Shine Program will provide resources such as cleanup materials\, waste hauling\, and landfill fees to groups volunteering to conduct litter cleanups. Last year's cleanup removed nearly 190 tons of litter   including more than 2\,000 tires and 250 appliances   from the state's landscape. \n\nFor more information\, contact Bradley Harris at 304-673-9230 or bradley_harris@outlook.com.
X-ALT-DESC;FMTTYPE=text/html:<span style="background-image:initial\;background-position:initial\;background-size:initial\;background-repeat:initial\;background-attachment:initial\;background-origin:initial\;background-clip:initial\;"><span style="color:black\;"><span style="font-family:arial\,sans-serif\;"><span style="font-size:9.5pt\;">Generation Charleston\, the Charleston Area Alliance&rsquo\;s young talent organization\, is helping to ensure that the state&rsquo\;s highways and public lands are free of trash as part of the West Virginia Department of Environmental Protection Make It Shine cleanup 9 a.m. &ndash\; 12 p.m. Saturday\, April 22.&nbsp\;<br />\n<br />\nGeneration Charleston members and friends will pick up litter along U.S. 119\, off the Interstate 79 Mink Shoals exit to the entrance of Coonskin Park. Members will meet at 9 a.m. in the parking lot of the Sleep Inn\, located at 2772 Pennsylvania Ave.<br />\n<br />\nThe Make It Shine Program is a comprehensive program aimed at making West Virginia the cleanest state in the nation. Throughout the state\, groups of volunteers\, businesses\, community organizations and local governments are working to accomplish this goal.&nbsp\;<br />\n&ldquo\;Last year\, 5\,000 West Virginia citizens took time to pick up unsightly trash along our streams and public lands and we&rsquo\;re hoping for another tremendous turnout this year\,&rdquo\; said REAP Director Sandy Rogers. &ldquo\;Without our wonderful volunteers\, this cleanup program would not be the success it is. Their tireless efforts are making West Virginia a better place to visit and live.&rdquo\;&nbsp\;<br />\n<br />\nThe Make It Shine Program will provide resources such as cleanup materials\, waste hauling\, and landfill fees to groups volunteering to conduct litter cleanups. Last year&rsquo\;s cleanup removed nearly 190 tons of litter &ndash\; including more than 2\,000 tires and 250 appliances &ndash\; from the state&rsquo\;s landscape.&nbsp\;<br />\nFor more information\, contact Bradley Harris at 304-673-9230 or&nbsp\;bradley_harris@outlook.com.&nbsp\;</span></span></span></span>
LOCATION:Clean up will be along U.S. 119\, off the Interstate 79 Mink Shoals exit to the entrance of Coonskin Park. Members will meet at 9 a.m. in the parking lot of the Sleep Inn\, located at 2772 Pennsylvania Ave.
UID:e.1499.1931
SEQUENCE:3
DTSTAMP:20260419T215409Z
URL:https://business.charlestonareaalliance.org/events/details/west-virginia-make-it-shine-clean-up-1931
END:VEVENT

END:VCALENDAR
