BEGIN:VCALENDAR
VERSION:2.0
PRODID:-//ChamberMaster//Event Calendar 2.0//EN
METHOD:PUBLISH
X-PUBLISHED-TTL:P3D
REFRESH-INTERVAL:P3D
CALSCALE:GREGORIAN
BEGIN:VEVENT
DTSTART:20140318T203000Z
DTEND:20140318T220000Z
X-MICROSOFT-CDO-ALLDAYEVENT:FALSE
SUMMARY:We Love Our Community Awards 2014
DESCRIPTION:The Charleston Area Alliance will host its sixth annual "We Love Our Community" awards program on Tuesday\, March 18. The event will recognize 13 recipients representing the best of the best in the Kanawha Valley.\n\n \n\n"This is another fantastic program and each year\, the Alliance is excited to host an event that shines a spotlight on the best of Charleston\," said Susie Salisbury\, the Alliance's vice president of community development. "Recognizing these recipients fits well with our mission of building a vibrant community and prosperous economy."\n\n \n\nThe program includes awards for several categories\, including Outstanding Preservation\, Best Development\, Best Re-Development\,\n\nCommunity Celebration\, Youth Volunteer and Servant Leader and the Kanawha Heritage award\, among others.\n\n \n\nPresented by title sponsor City National Bank\, the event will be held from 4:30-6 p.m. at the Girl Scouts of Black Diamond Council complex at 321 Virginia Street West.\n\n\n\nThe event is free to attend\, but RSVP is required via the registration link above. Please encourage your friends and colleagues to attend and experience this annual Alliance awards ceremony.
X-ALT-DESC;FMTTYPE=text/html:The Charleston Area Alliance will host its sixth annual &ldquo\;We Love Our Community&rdquo\; awards program on Tuesday\, March 18. The event will recognize 13 recipients representing the best of the best in the Kanawha Valley.<br />\n&nbsp\;<br />\n&ldquo\;This is another fantastic program and each year\, the Alliance is excited to host an event that shines a spotlight on the best of Charleston\,&rdquo\; said Susie Salisbury\, the Alliance&rsquo\;s vice president of community development. &ldquo\;Recognizing these recipients fits well with our mission of building a vibrant community and prosperous economy.&rdquo\;<br />\n&nbsp\;<br />\nThe program includes awards for several categories\, including Outstanding Preservation\, Best Development\, Best Re-Development\,<br />\nCommunity Celebration\, Youth Volunteer and Servant Leader and the Kanawha Heritage award\, among others.<br />\n&nbsp\;<br />\nPresented by title sponsor City National Bank\, the event will be held from 4:30-6 p.m. at the Girl Scouts of Black Diamond Council complex at 321 Virginia Street West.<br />\n<br />\nThe event is free to attend\, but RSVP is required via the registration link above. Please encourage your friends and colleagues to attend and experience this annual Alliance awards ceremony.
LOCATION:Girl Scouts of Black Diamond Council 321 Virginia Street West
UID:e.1499.691
SEQUENCE:3
DTSTAMP:20260421T213742Z
URL:https://business.charlestonareaalliance.org/events/details/we-love-our-community-awards-2014-03-18-2014-691
END:VEVENT

END:VCALENDAR
