BEGIN:VCALENDAR
VERSION:2.0
PRODID:-//ChamberMaster//Event Calendar 2.0//EN
METHOD:PUBLISH
X-PUBLISHED-TTL:P3D
REFRESH-INTERVAL:P3D
CALSCALE:GREGORIAN
BEGIN:VEVENT
DTSTART:20130319T203000Z
DTEND:20130319T220000Z
X-MICROSOFT-CDO-ALLDAYEVENT:FALSE
SUMMARY:We Love Our Community Awards 2013
DESCRIPTION:The Charleston Area Alliance will host its sixth annual "We Love Our Community" awards program on Tuesday\, March 19. The event will recognize 12 recipients representing the best of the best in the Kanawha Valley.\n\n	 \n\n	"This is another fantastic program and each year\, the Alliance is excited to host an event that shines a spotlight on the best of Charleston\," said Susie Salisbury\, the Alliance's vice president of community development. "Recognizing these recipients fits well with our mission of building a vibrant community and prosperous economy."\n\n	 \n\n	The program includes awards for several categories\, including Outstanding Preservation\, Best Development\, Best Re-Development\,\n\n	Community Celebration\, Youth Volunteer and Servant Leader and the Kanawha Heritage award\, among others.\n\n	 \n\n	Presented by title sponsor City National Bank\, the event will be held from 4:30-6 p.m. at the Charleston Town Center Mall\n\n	center court.\n\n	\n\n	The event is free to attend\, but RSVP is required via the registration link above. Please encourage your friends and colleagues to attend and experience this annual Alliance awards ceremony.\n\n	\n\n	If you work with an Alliance member business and need assistance locating your password for registration\, please email Leigh Anne Strickland.
X-ALT-DESC;FMTTYPE=text/html:<div style="color: gray\;">\n	<span style="font-size: medium\;"><span style="font-family: calibri\;">The Charleston Area Alliance will host its sixth annual &ldquo\;We Love Our Community&rdquo\; awards program on Tuesday\, March 19. The event will recognize 12 recipients representing the best of the best in the Kanawha Valley.</span></span><br />\n	&nbsp\;<br />\n	<span style="font-size: medium\;"><span style="font-family: calibri\;">&ldquo\;This is another fantastic program and each year\, the Alliance is excited to host an event that shines a spotlight on the best of Charleston\,&rdquo\; said Susie Salisbury\, the Alliance&rsquo\;s vice president of community development. &ldquo\;Recognizing these recipients fits well with our mission of building a vibrant community and prosperous economy.&rdquo\;</span></span><br />\n	&nbsp\;<br />\n	<span style="font-size: medium\;"><span style="font-family: calibri\;">The program includes awards for several categories\, including Outstanding Preservation\, Best Development\, Best Re-Development\,</span></span><br />\n	<span style="font-size: medium\;"><span style="font-family: calibri\;">Community Celebration\, Youth Volunteer and Servant Leader and the Kanawha Heritage award\, among others.</span></span><br />\n	&nbsp\;<br />\n	<span style="font-size: medium\;"><span style="font-family: calibri\;">Presented by title sponsor City National Bank\, the event will be held from 4:30-6 p.m. at the Charleston Town Center Mall</span></span><br />\n	<span style="font-size: 11pt\;"><span style="font-family: calibri\,sans-serif\;">center court.<br />\n	<br />\n	The event is free to attend\, but RSVP is required via the registration link above. Please encourage your friends and colleagues to attend and experience this&nbsp\;annual Alliance awards ceremony.<br />\n	<br />\n	If you work with an Alliance member business and need assistance locating <span style="color: rgb(178\, 34\, 34)\;">your password for registration</span>\, please email <a href="mailto:LStrickland@charlestonareaalliance.org?subject=Password%20Inquiry">Leigh Anne Strickland</a>.</span></span></div>\n
LOCATION:Town Center Mall Center Court 3000 Charleston Town Center Charleston\, WV 25389
UID:e.1499.554
SEQUENCE:3
DTSTAMP:20260422T125951Z
URL:https://business.charlestonareaalliance.org/events/details/we-love-our-community-awards-2013-03-19-2013-554
END:VEVENT

END:VCALENDAR
