BEGIN:VCALENDAR
VERSION:2.0
PRODID:-//ChamberMaster//Event Calendar 2.0//EN
METHOD:PUBLISH
X-PUBLISHED-TTL:P3D
REFRESH-INTERVAL:P3D
CALSCALE:GREGORIAN
BEGIN:VEVENT
DTSTART:20150919T000000Z
DTEND:20150919T030000Z
X-MICROSOFT-CDO-ALLDAYEVENT:FALSE
SUMMARY:Urban Living 2015: Capital City Shuffle
DESCRIPTION:Travel with Generation Charleston as they conclude another Urban Living Week and visit watering holes of downtown Charleston at the Capital City Shuffle.\n\n\n\nThe tour begins at 7 p.m. at Bar 101. From there\, guests walk to various establishments including Big Joe's\, Sam's and many others.
X-ALT-DESC;FMTTYPE=text/html:Travel with Generation Charleston as they conclude another Urban Living Week and visit watering holes of downtown Charleston at the Capital City Shuffle.<br />\n<br />\nThe tour begins&nbsp\;at 7 p.m. at Bar 101. From there\, guests walk to various establishments including Big Joe&#39\;s\, Sam&#39\;s and many others.
LOCATION:Bar 101 101 Capitol St.
UID:e.1499.808
SEQUENCE:3
DTSTAMP:20260420T230202Z
URL:https://business.charlestonareaalliance.org/events/details/urban-living-2015-capital-city-shuffle-09-18-2015-808
END:VEVENT

END:VCALENDAR
