BEGIN:VCALENDAR
VERSION:2.0
PRODID:-//ChamberMaster//Event Calendar 2.0//EN
METHOD:PUBLISH
X-PUBLISHED-TTL:P3D
REFRESH-INTERVAL:P3D
CALSCALE:GREGORIAN
BEGIN:VEVENT
DTSTART:20140919T230000Z
DTEND:20140920T030000Z
X-MICROSOFT-CDO-ALLDAYEVENT:FALSE
SUMMARY:Urban Living 2014: Capitol City Shuffle
DESCRIPTION:Travel with Generation Charleston and visit the watering holes of downtown Charleston at the Capitol City Shuffle.\n\n\n\nThe tour begins at 6 p.m. at Haddad Riverfront Park. From there\, guests walk to various establishments including Bar 101\, Timothy's and many others.
X-ALT-DESC;FMTTYPE=text/html:Travel with Generation Charleston and visit the watering holes of downtown Charleston at the Capitol City Shuffle.<br />\n<br />\nThe tour begins&nbsp\;at 6 p.m. at Haddad Riverfront Park. From there\, guests walk to various establishments including Bar 101\, Timothy&#39\;s and many others.
LOCATION:Haddad Riverfront Park 700 Kanawha Boulevard
UID:e.1499.728
SEQUENCE:3
DTSTAMP:20260421T144024Z
URL:https://business.charlestonareaalliance.org/events/details/urban-living-2014-capitol-city-shuffle-09-19-2014-728
END:VEVENT

END:VCALENDAR
