BEGIN:VCALENDAR
VERSION:2.0
PRODID:-//ChamberMaster//Event Calendar 2.0//EN
METHOD:PUBLISH
X-PUBLISHED-TTL:P3D
REFRESH-INTERVAL:P3D
CALSCALE:GREGORIAN
BEGIN:VEVENT
DTSTART:20130917T210000Z
DTEND:20130918T003000Z
X-MICROSOFT-CDO-ALLDAYEVENT:FALSE
SUMMARY:Urban Living 2013: Loft Walk
DESCRIPTION:The annual Loft Walk kicks off the three-day Urban Living event on Sept. 17. During a guided tour through some of Charleston's newly renovated and re-imagined lofts\, guests will see firsthand why more and more people are choosing downtown living.  \n\n\n\nLoft Walk starts at Adelphia Sports Bar at 218 Capitol Street. From there\, guests can walk or ride a trolley to the various properties.\n\n\n\nAll guests\, realtors\, property managers and property owners are invited to attend the reception at Adelphia for free appetizers and discounted drinks after the walk.  \n\n\n\nLoft Walk is sponsored by Selling West Virginia.
X-ALT-DESC;FMTTYPE=text/html:The&nbsp\;annual Loft Walk kicks off the three-day Urban Living event on Sept. 17. During a guided tour through some of Charleston&rsquo\;s newly renovated and re-imagined lofts\, guests will see firsthand why more and more people are choosing downtown living.&nbsp\;&nbsp\;<br />\n<br />\nLoft Walk starts at Adelphia Sports Bar at 218 Capitol Street. From there\, guests can walk or ride a trolley to the various properties.<br />\n<br />\nAll guests\, realtors\, property managers and property owners are invited to attend the reception at Adelphia&nbsp\;for free appetizers and discounted drinks after the walk. &nbsp\;<br />\n<br />\nLoft Walk is sponsored by Selling West Virginia. 
LOCATION:Adelphia Sports Bar 218 Capitol Street
UID:e.1499.662
SEQUENCE:3
DTSTAMP:20260422T050953Z
URL:https://business.charlestonareaalliance.org/events/details/urban-living-2013-loft-walk-09-17-2013-662
END:VEVENT

END:VCALENDAR
