BEGIN:VCALENDAR
VERSION:2.0
PRODID:-//ChamberMaster//Event Calendar 2.0//EN
METHOD:PUBLISH
X-PUBLISHED-TTL:P3D
REFRESH-INTERVAL:P3D
CALSCALE:GREGORIAN
BEGIN:VEVENT
DTSTART:20130920T230000Z
DTEND:20130921T020000Z
X-MICROSOFT-CDO-ALLDAYEVENT:FALSE
SUMMARY:Urban Living 2013: Capitol City Shuffle
DESCRIPTION:Travel with Generation Charleston and visit the watering holes of downtown Charleston at the Capitol City Shuffle.\n\n\n\nThe tour begins at 7 p.m. at Haddad Riverfront Park. From there\, guests walk to various establishments including Bar 101\, Charleston Brewing Company and many others.
X-ALT-DESC;FMTTYPE=text/html:Travel with Generation Charleston and visit the watering holes of downtown Charleston at the Capitol City Shuffle.<br />\n<br />\nThe tour begins&nbsp\;at 7 p.m. at Haddad Riverfront Park. From there\, guests walk to various establishments including Bar 101\, Charleston Brewing Company and many others. 
LOCATION:Haddad Riverfront Park 700 Kanawha Boulevard
UID:e.1499.663
SEQUENCE:3
DTSTAMP:20260422T051136Z
URL:https://business.charlestonareaalliance.org/events/details/urban-living-2013-capitol-city-shuffle-09-20-2013-663
END:VEVENT

END:VCALENDAR
