BEGIN:VCALENDAR
VERSION:2.0
PRODID:-//ChamberMaster//Event Calendar 2.0//EN
METHOD:PUBLISH
X-PUBLISHED-TTL:P3D
REFRESH-INTERVAL:P3D
CALSCALE:GREGORIAN
BEGIN:VEVENT
DTSTART:20230919T160000Z
DTEND:20230919T170000Z
X-MICROSOFT-CDO-ALLDAYEVENT:FALSE
SUMMARY:Up Next Charlie West - Professional Development Series Sept. 2023
DESCRIPTION:Inoculation to Agency B.S.\n\nMarketing Secrets for Savvy Spends\n\nThe unfortunate truth is that the marketing industry is riddled with deception. Agencies are often adept at selling themselves but fail to deliver on their promises. But that's okay for them\, your check's cleared before you figure that out.\n\nBut it doesn't have to be that way. By understanding fundamental marketing concepts\, you can quickly distinguish agencies that know what they're doing from those that overpromise and underdeliver. Not only that\, but you can maximize your investment by bringing a sophisticated marketing strategy to your first meeting with the quality agencies.\n\nAre you interested in mastering essential marketing strategies and fundamentals in less than an hour?\n\nJoe Justice's Inoculation to Agency B.S. offers a comprehensive view of marketing that works for both online and offline businesses\, whether local or nation-wide. You'll learn about crucial concepts such as:\n\n	Crafting compelling offers\n	Identifying your target market\n	Creating effective funnels\n	Gaining perspective on your efforts\n\nDiscover how these strategies can help you drive success and achieve your marketing goals. Sign up for Inoculation to Agency B.S. today
X-ALT-DESC;FMTTYPE=text/html:Inoculation to Agency B.S.<br />\nMarketing Secrets for Savvy Spends<br />\nThe unfortunate truth is that the marketing industry is riddled with deception. Agencies are often adept at selling themselves but fail to deliver on their promises. But that&rsquo\;s okay for them\, your check&rsquo\;s cleared before you figure that out.<br />\nBut it doesn&#39\;t have to be that way. By understanding fundamental marketing concepts\, you can quickly distinguish agencies that know what they&#39\;re doing from those that overpromise and underdeliver. Not only that\, but you can maximize your investment by bringing a sophisticated marketing strategy to your first meeting with the quality agencies.<br />\nAre you interested in mastering essential marketing strategies and fundamentals in less than an hour?<br />\nJoe Justice&#39\;s Inoculation to Agency B.S. offers a comprehensive view of marketing that works for both online and offline businesses\, whether local or nation-wide. You&#39\;ll learn about crucial concepts such as:\n<ul>\n	<li>Crafting compelling offers</li>\n	<li>Identifying your target market</li>\n	<li>Creating effective funnels</li>\n	<li>Gaining perspective on your efforts</li>\n</ul>\n<span style="font-family:calibri\,sans-serif\;"><span style="font-size:11.0pt\;">Discover how these strategies can help you drive success and achieve your marketing goals. Sign up for Inoculation to Agency B.S. today</span></span>
LOCATION:Charleston Area Alliance 1116 Smith Street Charleston\, WV 25301
UID:e.1499.5617
SEQUENCE:3
DTSTAMP:20260422T082619Z
URL:https://business.charlestonareaalliance.org/events/details/up-next-charlie-west-professional-development-series-sept-2023-5617
END:VEVENT

END:VCALENDAR
