BEGIN:VCALENDAR
VERSION:2.0
PRODID:-//ChamberMaster//Event Calendar 2.0//EN
METHOD:PUBLISH
X-PUBLISHED-TTL:P3D
REFRESH-INTERVAL:P3D
CALSCALE:GREGORIAN
BEGIN:VEVENT
DTSTART:20150914T223000Z
DTEND:20150915T003000Z
X-MICROSOFT-CDO-ALLDAYEVENT:FALSE
SUMMARY:Transportation Forum
DESCRIPTION:As part of its Urban Living Week\, Generation Charleston is hosting a transportation forum to discuss current and evolving public transportation options\, including ride-sharing services. \n\n\n\nMatt Sutton\, Integrated Marketing Communications project manager at Fahlgren Mortine\, will moderate the forum that kicks off Urban Living Week. \n\n\n\nPanelists include: \n\n\n\nDelegate Andrew Byrd \n\nSenator Chris Walters \n\nJeb Corey of C&H Taxi \n\nJason Webb of Capitol Advocates \n\nVincente Cruz\, owner of Vinos and The Copper Pint\n\n\n\nAdmission is free and open to the public\, but you must RSVP.
X-ALT-DESC;FMTTYPE=text/html:As part of its Urban Living Week\, Generation Charleston is hosting a transportation forum to discuss current and evolving public transportation options\, including ride-sharing services.&nbsp\;<br />\n<br />\nMatt Sutton\, Integrated Marketing Communications project manager at Fahlgren&nbsp\;Mortine\, will moderate the forum that kicks off Urban Living Week.&nbsp\;<br />\n<br />\nPanelists include:&nbsp\;<br />\n<br />\nDelegate Andrew Byrd&nbsp\;<br />\nSenator Chris Walters&nbsp\;<br />\nJeb Corey of C&amp\;H Taxi&nbsp\;<br />\nJason Webb of Capitol Advocates&nbsp\;<br />\nVincente Cruz\, owner of Vinos and The Copper Pint<br />\n<br />\nAdmission is free and open to the public\, but you must RSVP.&nbsp\;<br />\n&nbsp\;
LOCATION:Four Points by Sheraton 600 Kanawha Blvd. E Charleston\, WV 25301
UID:e.1499.807
SEQUENCE:3
DTSTAMP:20260420T225724Z
URL:https://business.charlestonareaalliance.org/events/details/transportation-forum-09-14-2015-807
END:VEVENT

END:VCALENDAR
