BEGIN:VCALENDAR
VERSION:2.0
PRODID:-//ChamberMaster//Event Calendar 2.0//EN
METHOD:PUBLISH
X-PUBLISHED-TTL:P3D
REFRESH-INTERVAL:P3D
CALSCALE:GREGORIAN
BEGIN:VEVENT
DTSTART;VALUE=DATE:20171003
DTEND;VALUE=DATE:20171115
TRANSP:TRANSPARENT
X-MICROSOFT-CDO-ALLDAYEVENT:TRUE
SUMMARY:Thrive Entrepreneur Application 2017
DESCRIPTION:Thrive is a community-based approach to supporting local entrepreneurs. Entrepreneurs take the stage to present their crowdfunding pitch campaign\, competing against one another for community members' votes.\n\n\n\nEntrepreneurs find ambassadors who can spread their brand's message and the top vote-getting entrepreneur takes home a cash prize to scale up their operation. \n\n\n\nClick 'Register Now' above to apply. Choose the 'Click here to continue your event registration' link under the 'Not a member?' heading to proceed to application.\n\n\n\nHow does it work?\n\n\n\nWhether you have a fantastic idea\, are looking to expand or are a startup already operating ? if you have a business or product that could use financial support\, then apply to participate in Thrive. \n\n	Entrepreneur applicants must register online by 5 p.m. Sunday\, Nov. 12. Must be 18 by Dec. 5 to apply.\n	Applications are reviewed by an independent panel of judges who will select finalists to be featured at Thrive.\n	Leading up to the event\, finalists meet with University of Charleston Innovation Center business coaches to get tips and suggestions for their respective business plan presentations.\n	Finalists pitch business plan to promote their idea and outline need for capital investment at Thrive.\n	Top vote-getting entrepreneur will take home cash prize to scale-up operations.\n\nWhere does capital investment come from?\n\n\n	Community members pay a $25 entry fee to attend Thrive\, which gives them the opportunity to vote for an entrepreneur to support for capital investment.\n	Community member attendance fees are combined with seed capital from event sponsors for the top vote-getter's capital investment. \n\nClick here for more information on the Thrive entrepreneur application process.
X-ALT-DESC;FMTTYPE=text/html:Thrive is a community-based approach to supporting local entrepreneurs. Entrepreneurs take the stage to present their crowdfunding pitch campaign\, competing against one another for community members&#39\; votes.<br />\n<br />\nEntrepreneurs find ambassadors who can spread their brand&#39\;s message and the top vote-getting entrepreneur takes home a cash prize to scale up their operation.&nbsp\;<br />\n<br />\nClick &#39\;Register Now&#39\; above to apply. Choose the &#39\;Click here to continue your event registration&#39\; link under the &#39\;Not a member?&#39\; heading to proceed to application.<br />\n<br />\n<strong>How does it work?</strong><br />\n<br />\nWhether you have a fantastic idea\, are looking to expand or are a startup already operating ? if you have a business or product that could use financial support\, then apply to participate in Thrive.&nbsp\;\n<ul>\n	<li>Entrepreneur applicants&nbsp\;must register online by 5 p.m. Sunday\,&nbsp\;Nov. 12. Must be 18 by Dec. 5 to apply.</li>\n	<li>Applications are reviewed by an independent panel of judges who will select finalists to be featured at Thrive.</li>\n	<li>Leading up to the event\, finalists meet with University of Charleston Innovation Center&nbsp\;business coaches to get tips and suggestions for their respective business plan presentations.</li>\n	<li>Finalists pitch business plan to promote their idea and outline need for capital investment at Thrive.</li>\n	<li>Top vote-getting entrepreneur will take home cash prize to scale-up operations.</li>\n</ul>\n<strong>Where does capital investment come from?</strong>\n\n<ul>\n	<li>Community members pay a $25 entry&nbsp\;fee to attend Thrive\, which gives&nbsp\;them the opportunity to vote for an entrepreneur to support for capital investment.</li>\n	<li>Community member attendance fees are combined with seed capital from event sponsors for the top vote-getter&#39\;s capital investment.&nbsp\;</li>\n</ul>\n<a href="https://chambermaster.blob.core.windows.net/userfiles/UserFiles/chambers/1499/File/ThriveEntrepreneurFlyer1.pdf" target="_blank">Click here</a> for more information on the Thrive entrepreneur application process.&nbsp\;
LOCATION:University of Charleston Russell and Martha Wehrle Innovation Center 2300 MacCorkle Ave. SE\, Charleston\, WV 25304
UID:e.1499.1970
SEQUENCE:3
DTSTAMP:20260419T124305Z
URL:https://business.charlestonareaalliance.org/events/details/thrive-entrepreneur-application-2017-1970
END:VEVENT

END:VCALENDAR
