BEGIN:VCALENDAR
VERSION:2.0
PRODID:-//ChamberMaster//Event Calendar 2.0//EN
METHOD:PUBLISH
X-PUBLISHED-TTL:P3D
REFRESH-INTERVAL:P3D
CALSCALE:GREGORIAN
BEGIN:VEVENT
DTSTART:20150915T223000Z
DTEND:20150916T003000Z
X-MICROSOFT-CDO-ALLDAYEVENT:FALSE
SUMMARY:Thrive 2015
DESCRIPTION:"Thrive"\n\nTuesday\, Sept. 15\n\n5:30-7:30 p.m.\n\n\n\nPitch. Promote. Get Paid. \n\nJoin the Charleston Area Alliance Tuesday\, September 15 from 5:30 p.m. to 7:30 p.m. at the Advanced Technology Center in South Charleston for Thrive. \n\nThrive is the Charleston Area Alliance's annual in-person crowdfunding event. Local entrepreneurs compete against one another for the crowd's votes\, the winner taking home a cash prize estimated at $5\,000.\n\nHow does it work? \n\nEntrepreneurs complete an online application\, and then a blind panel will select up to 10 finalists to be featured as part of the live pitch event on September 15.\n\nFinalists develop a brief live pitch to be delivered on stage at the event. The entrepreneurs will highlight their businesses and show how the cash infusion will be used. Entrepreneurs will also set up booths to interact with attendees and answer questions in an effort to gain votes. \n\nWhere does the capital come from?\n\nAs a community member\, you have the power to invest and shape the business YOU want in your community. To attend and participate in the event\, community members will pay $20 (plus $1.50 processing fee) a ticket to vote for the entrepreneur or small business they want to support. Refreshments will be provided.\n\nAt the end of the night\, the entrepreneur with the most votes will receive $20 times the number of attendees as cash capital to invest in their business.  \n\nThe prize pool also includes seed money generously provided by our sponsors. Last year's total capital award was more than $4\,600.\n\n\n\nInterested in participating in Thrive as an entrepreneur? Fill out the application here.  \nThe Sept. 15 event will be a featured attraction in the "Work " element of Generation Charleston's Urban Living Event.\n\n\n\nRemember\, the $20 attendance fee will directly support the winning entrepreneur. Tickets will also be available at the door for $20 cash or check.
X-ALT-DESC;FMTTYPE=text/html:<strong style="line-height: 23.1111106872559px\;">&quot\;Thrive&quot\;</strong><br style="line-height: 23.1111106872559px\;" />\n<span style="line-height: 23.1111106872559px\;">Tuesday\, Sept. 15</span><br style="line-height: 23.1111106872559px\;" />\n<span style="line-height: 23.1111106872559px\;">5:30-7:30 p.m.</span><br />\n<br />\n<strong style="line-height: 1.6\;"><span style="font-family:&quot\;Arial&quot\;\,&quot\;sans-serif&quot\;">Pitch. Promote. Get Paid.&nbsp\;</span></strong>\n\n<p style="margin-top:0in\;margin-right:3.75pt\;margin-bottom:7.5pt\;margin-left:\n3.75pt"><span style="font-size:10.0pt\;font-family:&quot\;Arial&quot\;\,&quot\;sans-serif&quot\;">Join the Charleston Area Alliance Tuesday\, September 15 from 5:30 p.m. to 7:30 p.m. at the Advanced Technology Center in South Charleston for Thrive.&nbsp\;</span><span style="font-family:&quot\;Arial&quot\;\,&quot\;sans-serif&quot\;"><o:p></o:p></span></p>\n\n<p style="margin-top:0in\;margin-right:3.75pt\;margin-bottom:7.5pt\;margin-left:\n3.75pt"><span style="font-size:10.0pt\;font-family:&quot\;Arial&quot\;\,&quot\;sans-serif&quot\;">Thrive is the Charleston Area Alliance&#39\;s annual in-person crowdfunding event. Local entrepreneurs compete against one another for the crowd&#39\;s votes\, the winner taking home a cash prize estimated at $5\,000.</span><span style="font-family:&quot\;Arial&quot\;\,&quot\;sans-serif&quot\;"><o:p></o:p></span></p>\n\n<p style="margin-top:0in\;margin-right:3.75pt\;margin-bottom:7.5pt\;margin-left:\n3.75pt"><strong><span style="font-size:10.0pt\;font-family:&quot\;Arial&quot\;\,&quot\;sans-serif&quot\;">How does it work?&nbsp\;</span></strong><span style="font-family:&quot\;Arial&quot\;\,&quot\;sans-serif&quot\;"><o:p></o:p></span></p>\n\n<p style="margin-top:0in\;margin-right:3.75pt\;margin-bottom:7.5pt\;margin-left:\n3.75pt"><span style="font-family:&quot\;Arial&quot\;\,&quot\;sans-serif&quot\;">Entrepreneurs complete an online application\, and then a blind panel will select up to 10 finalists to be featured as part of the live pitch event on September 15.<o:p></o:p></span></p>\n\n<p style="margin-top:0in\;margin-right:3.75pt\;margin-bottom:7.5pt\;margin-left:\n3.75pt"><span style="font-size:10.0pt\;font-family:&quot\;Arial&quot\;\,&quot\;sans-serif&quot\;">Finalists develop a brief live pitch to be delivered on stage at the event. The entrepreneurs will highlight their businesses&nbsp\;and show how the cash infusion will be used. Entrepreneurs will also set up booths to interact with attendees and answer questions in an effort to gain votes. </span><span style="font-family:\n&quot\;Arial&quot\;\,&quot\;sans-serif&quot\;"><o:p></o:p></span></p>\n\n<p style="margin-top:0in\;margin-right:3.75pt\;margin-bottom:7.5pt\;margin-left:\n3.75pt"><strong><span style="font-size:10.0pt\;font-family:&quot\;Arial&quot\;\,&quot\;sans-serif&quot\;">Where does the capital come from?</span></strong><span style="font-family:&quot\;Arial&quot\;\,&quot\;sans-serif&quot\;"><o:p></o:p></span></p>\n\n<p style="margin-top:0in\;margin-right:3.75pt\;margin-bottom:7.5pt\;margin-left:\n3.75pt"><span style="font-size:10.0pt\;font-family:&quot\;Arial&quot\;\,&quot\;sans-serif&quot\;">As a community member\, you have the power to invest and shape the business YOU want in your community. To attend and participate in the event\, community members will pay $20 (plus $1.50 processing fee) a ticket&nbsp\;to vote for the entrepreneur or small business they want to support. Refreshments will be provided.</span></p>\n\n<p style="margin-top:0in\;margin-right:3.75pt\;margin-bottom:7.5pt\;margin-left:\n3.75pt"><span style="font-size:10.0pt\;font-family:&quot\;Arial&quot\;\,&quot\;sans-serif&quot\;">At the end of the night\, the entrepreneur with the most votes will receive $20 times the number of attendees as cash capital to invest in their business. &nbsp\;</span><span style="font-family:&quot\;Arial&quot\;\,&quot\;sans-serif&quot\;"><o:p></o:p></span></p>\n\n<p style="margin-top:0in\;margin-right:3.75pt\;margin-bottom:7.5pt\;margin-left:\n3.75pt"><span style="line-height: 23.1111106872559px\;">The prize pool also includes seed money generously provided by our sponsors. Last year&#39\;s total capital award was more than $4\,600.</span><br />\n<span style="font-family:&quot\;Arial&quot\;\,&quot\;sans-serif&quot\;"><o:p></o:p></span></p>\n\n<p style="margin-top:0in\;margin-right:3.75pt\;margin-bottom:7.5pt\;margin-left:\n3.75pt"><span style="font-size:10.0pt\;font-family:&quot\;Arial&quot\;\,&quot\;sans-serif&quot\;">Interested in participating in Thrive as an entrepreneur? Fill out the application <a href="http://clicktracking.gractions.com/?qs=bG5UKwSaveiieGkkKwuYfDzUBy0L1GHGgkdv3UCOC%2fLmQ9pvkjvS3q4XvpzNhKLRrSrsUeqjV8E47t42taetW%2fE%2fRBPVZIBqTvl9NaC5pApKZai%2bVD0CpBWQv%2f4uO3zEej1N87o4xHEDOvRZKZytBN%2bn3zpU30qmAdHiTTjaEseEAsWMRFvjATwIISwmFpfmxWPWQ%2blYqHG2oWoohMRZ05w%2fmJT3JRQAENsDPuhR%2fa6NFqa3zaRaAQhI1i8A%2fvCPiawsbj%2f5ND0%3d" id="link_1439559349672" target="_self">here</a>. &nbsp\;</span><span style="font-family:&quot\;Arial&quot\;\,&quot\;sans-serif&quot\;"><o:p></o:p></span></p>\n<span style="line-height: 23.1111106872559px\;">The Sept. 15 event will be a featured attraction in the &quot\;Work &quot\; element of Generation Charleston&#39\;s Urban Living Event.</span><br style="line-height: 23.1111106872559px\;" />\n<br style="line-height: 23.1111106872559px\;" />\n<span style="font-size:14px\;"><strong>Remember\, the $20 attendance fee will directly support the winning&nbsp\;entrepreneur.&nbsp\;<span style="color: rgb(51\, 51\, 51)\; font-family: Arial\, sans-serif\; line-height: 17.0666656494141px\; background-color: rgb(255\, 255\, 255)\;">Tickets will also be available&nbsp\;at the door for $20 cash or check.</span></strong></span>
LOCATION:The Advanced Technology Center 1201 Science Park Drive South Charleston\, WV 25303
UID:e.1499.804
SEQUENCE:3
DTSTAMP:20260420T225622Z
URL:https://business.charlestonareaalliance.org/events/details/thrive-2015-09-15-2015-804
END:VEVENT

END:VCALENDAR
