BEGIN:VCALENDAR
VERSION:2.0
PRODID:-//ChamberMaster//Event Calendar 2.0//EN
METHOD:PUBLISH
X-PUBLISHED-TTL:P3D
REFRESH-INTERVAL:P3D
CALSCALE:GREGORIAN
BEGIN:VEVENT
DTSTART:20150421T060000Z
DTEND:20150421T190000Z
X-MICROSOFT-CDO-ALLDAYEVENT:FALSE
SUMMARY:Think Tank 24 - Downtown Housing Market
DESCRIPTION:Curious about the housing market needs of Downtown Charleston?\n\n\n\nThe Charleston Area Alliance\, along with Bowen National Research\, will present Think Tank 24\, a community forum outlining results from a recently-completed residential feasibility study which assessed the current downtown housing market and its potential for future growth.\n\n\n\nPatrick Bowen\, president of Bowen National Research\, will share the findings of the report that analyzes the state of housing supply\, housing affordability issues and downtown Charleston's ability to meet projected housing demand. The analysis will highlight the demand for rental and/or owner-occupied homes and provide an inventory of available housing development sites. The assessment data will help the Alliance and the City of Charleston in recruitment of developers to produce market rate and mixed- use housing.\n\n\n\nAfter the presentation\, there will be a question and answer session.Bowen has prepared and supervised thousands of market feasibility studies for all types of real estate products\, many in West Virginia. He has conducted numerous housing needs assessments and provided consulting services to city\, county and state development entities as it relates to residential development.\n\n\n\nThe need for a downtown housing feasibility study stems from the recently-completed Imagine Charleston Downtown Charleston Redevelopment Plan which provides the framework for creating a sustainable downtown.  Outlined in the plan is a vision for downtown livability through improvement to the quality of public spaces and the perception of safety while incentivizing investment toward renovated and new housing development. The study was funded by a grant from the West Virginia Community Participation Program.\n\n\n\nThe event is free to attend\, but RSVP is required.\n\n\n\nThink Tank is sponsored by AT&T and the Alliance.
X-ALT-DESC;FMTTYPE=text/html:<div style="color: black\;"><span style="font-family: arial\;"><span style="font-size: 11px\;">Curious about the housing market needs of Downtown Charleston?<br />\n<br />\nThe Charleston Area Alliance\, along with Bowen National Research\, will present Think Tank 24\, a community forum outlining results from a recently-completed residential feasibility study which assessed the current downtown housing market and its potential for future growth.<br />\n<br />\nPatrick Bowen\, president of Bowen National Research\, will share the findings of the report that analyzes the state of housing supply\, housing affordability issues and downtown Charleston&rsquo\;s ability to meet projected housing demand. The analysis will highlight the demand for rental and/or owner-occupied homes and provide an inventory of available housing development sites. The assessment data will help the Alliance and the City of Charleston in recruitment of developers to produce market rate and mixed- use housing.<br />\n<br />\nAfter the presentation\, there will be a question and answer session.Bowen has prepared and supervised thousands of market feasibility studies for all types of real estate products\, many in West Virginia. He has conducted numerous housing needs assessments and provided consulting services to city\, county and state development entities as it relates to residential development.<br />\n<br />\nThe need for a downtown housing feasibility study stems from the recently-completed Imagine </span></span><span style="font-size: 11px\;">Charleston <a href="http://www.cityofcharleston.org/civic_project/imagine_charleston_PRESS.pdf" target="_blank">Downtown Charleston Redevelopment Plan </a>which </span><span style="font-family: arial\;"><span style="font-size: 11px\;">provides the framework for creating a sustainable downtown.&nbsp\; Outlined in the plan is a vision for downtown livability through improvement to the quality of public spaces and the perception of safety while incentivizing investment toward renovated and new housing development. The study was funded by a grant from the West Virginia Community Participation Program.<br />\n<br />\nThe event is free to attend\, but RSVP is required.</span></span><br />\n<br />\n<span style="font-family: arial\;"><span style="font-size: 11px\;">Think Tank is sponsored by AT&amp\;T and the Alliance.&nbsp\;<br />\n&nbsp\;</span></span></div>\n
LOCATION:Charleston Area Alliance 1116 Smith Street Charleston\, WV 25301
UID:e.1499.777
SEQUENCE:3
DTSTAMP:20260421T055825Z
URL:https://business.charlestonareaalliance.org/events/details/think-tank-24-downtown-housing-market-04-21-2015-777
END:VEVENT

END:VCALENDAR
