BEGIN:VCALENDAR
VERSION:2.0
PRODID:-//ChamberMaster//Event Calendar 2.0//EN
METHOD:PUBLISH
X-PUBLISHED-TTL:P3D
REFRESH-INTERVAL:P3D
CALSCALE:GREGORIAN
BEGIN:VEVENT
DTSTART:20140430T154500Z
DTEND:20140430T170000Z
X-MICROSOFT-CDO-ALLDAYEVENT:FALSE
SUMMARY:Think Tank 23 - Trails That Promote Healthy Living & Economic Growth April 2014
DESCRIPTION:Come join us for an enlightening presentation on the Ridge to Rivers trail system in Boise\, Idaho.  \n\n\n\nLearn about their trail history\, development\, resource development\, maintenance and the economic impacts for the surrounding community.  Ridge to Rivers is rated among the best urban trail systems in the country.\n\n\n\nPresenter David Gordon has been the Coordinator of the 150-mile Ridge to Rivers Trail System in Boise\, Idaho since 2003.\n\n\n\nPrior to that\, he was the Recreation Specialist/Snow Ranger for the Sawtooth National Forest in Sun Valley\, Idaho (1990   2003)\, where he developed much of the mountain bike and hiking trail system that Sun Valley has become famous for in recent years. David is an avid skier\, backpacker\, mountain biker and whitewater enthusiast.\n\n\n\nThe event is free to attend\, but RSVP is required.\n\n\n\nThink Tank is sponsored by AT&T and the Alliance.
X-ALT-DESC;FMTTYPE=text/html:<div style="color: gray\;"><br />\nCome join us for an enlightening presentation on the Ridge to Rivers trail system in Boise\, Idaho. &nbsp\;<br />\n<br />\nLearn about their trail history\, development\, resource development\, maintenance and the economic impacts for the surrounding community.&nbsp\; Ridge to Rivers is rated among the best urban trail systems in the country.<br />\n<br />\nPresenter David Gordon has been the Coordinator of the 150-mile Ridge to Rivers Trail System in Boise\, Idaho since 2003.<br />\n<br />\nPrior to that\, he was the Recreation Specialist/Snow Ranger for the Sawtooth National Forest in Sun Valley\, Idaho (1990 &ndash\; 2003)\, where he developed much of the mountain bike and hiking trail system that Sun Valley has become famous for in recent years. David is an avid skier\, backpacker\, mountain biker and whitewater enthusiast.<br />\n<br />\nThe event is free to attend\, but <span style="color: rgb(255\, 0\, 0)\;">RSVP is required</span>.</div>\n\n<div style="color: gray\;"><br />\nThink Tank is sponsored by AT&amp\;T and the Alliance.&nbsp\;<br />\n&nbsp\;</div>\n
LOCATION:Jackson Kelly Laidley Tower\, 16th Floor
UID:e.1499.702
SEQUENCE:3
DTSTAMP:20260421T202717Z
URL:https://business.charlestonareaalliance.org/events/details/think-tank-23-trails-that-promote-healthy-living-economic-growth-april-2014-04-30-2014-702
END:VEVENT

END:VCALENDAR
