BEGIN:VCALENDAR
VERSION:2.0
PRODID:-//ChamberMaster//Event Calendar 2.0//EN
METHOD:PUBLISH
X-PUBLISHED-TTL:P3D
REFRESH-INTERVAL:P3D
CALSCALE:GREGORIAN
BEGIN:VEVENT
DTSTART:20130228T133000Z
DTEND:20130228T150000Z
X-MICROSOFT-CDO-ALLDAYEVENT:FALSE
SUMMARY:Think Tank 22 - WV Connecting Communities & Transportation for America
DESCRIPTION:Think Tank is back with a special "Imagine Charleston" edition featuring John Robert Smith\, President and CEO of Reconnecting America and former mayor of Meridian\, MS. "Imagine Charleston" is the city's new creative visioning and planning process that seeks unprecedented input from Charlestonians to develop new official plans for the city's future.\n\n	\n\n	With an energetic blend of insight\, Smith will discuss his knowledge of development projects and improving our downtown area.\n\n	\n\n	Smith served four terms as mayor of Meridian\, MS and currently serves as the President and CEO of Reconnecting America\, a national non-profit transit research and advocacy think tank. While in office\, Mayor Smith oversaw a number of development projects to boost investment in Meridian's downtown and several declining inner-city neighborhoods\, including the redevelopment of the historic Union Station\, the construction of a new performing arts center and the development of a HOPE VI mixed-income housing project. He is co-chairman of Transportation for America and former co-chairman of the National Forum on the Future of Passenger Rail of the National League of Cities and the U.S. Conference of Mayors.\n\n	\n\n	The event is free to attend\, but RSVP is required.\n\n	\n\n	\n\n	Register via the button at top left. If you work with an Alliance-member business and need assistance locating your password\, please email Leigh Anne Strickland for assistance.
X-ALT-DESC;FMTTYPE=text/html:<div style="color: gray\;">\n	Think Tank is back with a special &ldquo\;Imagine Charleston&rdquo\; edition featuring John Robert Smith\, President and CEO of Reconnecting America and former mayor of Meridian\, MS. &ldquo\;Imagine Charleston&rdquo\; is the city&rsquo\;s new creative visioning and planning process that seeks unprecedented input from Charlestonians to develop new official plans for the city&rsquo\;s future.<br />\n	<br />\n	With an energetic blend of insight\, Smith will discuss his knowledge of development projects and improving our downtown area.<br />\n	<br />\n	Smith served four terms as mayor of Meridian\, MS and currently serves as the President and CEO of Reconnecting America\, a national non-profit transit research and advocacy think tank. While in office\, Mayor Smith oversaw a number of development projects to boost investment in Meridian&rsquo\;s downtown and several declining inner-city neighborhoods\, including the redevelopment of the historic Union Station\, the construction of a new performing arts center and the development of a HOPE VI mixed-income housing project. He is co-chairman of Transportation for America and former co-chairman of the National Forum on the Future of Passenger Rail of the National League of Cities and the U.S. Conference of Mayors.<br />\n	<br />\n	The event is free to attend\, but <span style="color: rgb(255\, 0\, 0)\;">RSVP is required</span>.<br />\n	<br />\n	<br />\n	Register via the&nbsp\;button at&nbsp\;top left. If you work with an Alliance-member business and need assistance locating your password\, please email <a href="mailto:LStrickland@charlestonareaalliance.org?subject=Password%20Inquiry">Leigh Anne Strickland </a>for assistance.&nbsp\;<br />\n	<br />\n	&nbsp\;</div>\n
LOCATION:Charleston Area Alliance Large Conference Room 1116 Smith Street Charleston\, WV 25301
UID:e.1499.553
SEQUENCE:3
DTSTAMP:20260422T141915Z
URL:https://business.charlestonareaalliance.org/events/details/think-tank-22-wv-connecting-communities-transportation-for-america-02-28-2013-553
END:VEVENT

END:VCALENDAR
