BEGIN:VCALENDAR
VERSION:2.0
PRODID:-//ChamberMaster//Event Calendar 2.0//EN
METHOD:PUBLISH
X-PUBLISHED-TTL:P3D
REFRESH-INTERVAL:P3D
CALSCALE:GREGORIAN
BEGIN:VEVENT
DTSTART:20121115T171500Z
DTEND:20121115T183000Z
X-MICROSOFT-CDO-ALLDAYEVENT:FALSE
SUMMARY:SUCCESStrategies: WV Economic Outlook 2012
DESCRIPTION:Will West Virginia benefit from the improving national economic outlook?\n\n\n\nWill mounting international financial problems impact West Virginia?\n\n\n\nWhich state sectors show the most promise?\n\n\n\nJose V. Sartarelli\, Ph.D.\, Milan Puskar Dean\, WVU College of Business and Economics\, will discuss these and other issues at this SUCCESStrategies luncheon presented by the Charleston Area Alliance. Dr. Sartarelli will be joined by other experts and business leaders who will share their perspectives on the forecasts and trends presented during the economic outlook conference. \n\n\n\nThe luncheon will include a lively Q&A session and is scheduled to immediately follow the 18th Annual West Virginia Economic Outlook Conference\, on Thursday\, Nov. 15\, at the Charleston Civic Center.\n\n\n\nSUCCESStrategies is the Alliance's premier professional development series. This luncheon on Nov. 15 is presented through the generous sponsorship of Kanawha Scales and Systems.\n\n\n\n*Separate registration is required to attend the morning's Economic Outlook Conference.
X-ALT-DESC;FMTTYPE=text/html:Will West Virginia benefit from the improving national economic outlook?<br />\n<br />\nWill mounting international financial problems impact West Virginia?<br />\n<br />\nWhich state sectors show the most promise?<br />\n<br />\nJose V. Sartarelli\, Ph.D.\, Milan Puskar Dean\, WVU&nbsp\;College of Business and Economics\, will discuss these and other issues at this&nbsp\;SUCCESStrategies luncheon presented by the Charleston Area Alliance. Dr. Sartarelli will be joined by other experts and business leaders who will share their perspectives on the forecasts and trends presented during the economic outlook conference.&nbsp\;<br />\n<br />\nThe luncheon will include a lively Q&amp\;A session and is scheduled to immediately follow the 18th Annual West Virginia Economic Outlook Conference\, on Thursday\, Nov. 15\, at the Charleston Civic Center.<br />\n<br />\nSUCCESStrategies is the Alliance&#39\;s premier professional development series. This luncheon on Nov. 15 is presented through the generous sponsorship of Kanawha Scales and Systems.<br />\n<br />\n*Separate registration is required to attend the morning&#39\;s Economic Outlook Conference.
LOCATION:Charleston Civic Center Parlor Rooms A & B 200 Civic Center Drive Charleston\, WV 25301
UID:e.1499.512
SEQUENCE:3
DTSTAMP:20260422T175000Z
URL:https://business.charlestonareaalliance.org/events/details/successtrategies-wv-economic-outlook-2012-11-15-2012-512
END:VEVENT

END:VCALENDAR
