BEGIN:VCALENDAR
VERSION:2.0
PRODID:-//ChamberMaster//Event Calendar 2.0//EN
METHOD:PUBLISH
X-PUBLISHED-TTL:P3D
REFRESH-INTERVAL:P3D
CALSCALE:GREGORIAN
BEGIN:VEVENT
DTSTART:20130702T153000Z
DTEND:20130702T171500Z
X-MICROSOFT-CDO-ALLDAYEVENT:FALSE
SUMMARY:SUCCESStrategies: Navigating the Affordable Care Act
DESCRIPTION:PARKING INFORMATION:\n\n	Guests are encouraged to arrive early to find parking near the Alliance. Opportunities include areas near Power Park (Morris Street) and Union Mission (Leon Sullivan Way)\, as well as the Clay Center lot (Washington Street).\n\n	\n\n	\n\n	Learn the ins and outs of healthcare reform at the next SUCCESStrategies luncheon presented by the Charleston Area Alliance.\n\n	\n\n	The event will focus on the Affordable Care Act and how it will affect both employees and employers. At the luncheon\, a panel of local experts will discuss the new healthcare act slated to take effect in January 2014.\n\n	\n\n	Sally Smith of Bowles Rice will moderate the discussion.\n\n	\n\n	Panelists include:\n\n	\n		\n			Renate Pore\, Director of Health Policy\, West Virginians for Affordable Healthcare \n		\n			Jeremiah Samples\, Insurance Program Manager\, WV Office of Insurance Commissioner \n		\n			Matt Coleman\, Founder & CEO\, Office & Commercial Cleaning \n		\n			Steve Dexter\, CEO\, Thomas Hospital Systems \n	\n\nRegistration is $15 for Alliance Member Business employees\, and $25 for future members.  Lunch will be provided. The panel discussion is scheduled from noon-1 p.m.\, followed by a 15 minute Q&A session. \n\n\n\nAdvance registration is required. Click the blue registration button at top left to reserve your seat. If you work with an Alliance member business and need assistance locating your password to access exclusive discounts\, email Leigh Anne Strickland (Director\, Member Programs & Services).\n\n\n\nSUCCESStrategies is the Alliance's premier professional development series.
X-ALT-DESC;FMTTYPE=text/html:<div style="color: gray\;">\n	<span style="color: rgb(178\, 34\, 34)\;"><span style="font-size: medium\;"><span style="font-family: times new roman\;"><strong><span style="font-family: arial\;">PARKING INFORMATION:</span></strong></span></span></span><br />\n	<span style="color: rgb(0\, 0\, 0)\;"><span style="font-size: medium\;"><span style="font-family: times new roman\;"><span style="font-family: arial\;">Guests are encouraged to arrive <u>early </u>to find parking near the Alliance. Opportunities include areas near Power Park (</span></span></span></span><span style="color: rgb(178\, 34\, 34)\;"><span style="font-size: medium\;"><span style="font-family: times new roman\;"><span style="font-family: arial\;">Morris Street</span></span></span></span><span style="color: rgb(0\, 0\, 0)\;"><span style="font-size: medium\;"><span style="font-family: times new roman\;"><span style="font-family: arial\;">) and <font size="3"><font color="#000000">Union Mission (</font><span style="color: rgb(178\, 34\, 34)\;"><span style="font-size: medium\;"><span style="font-family: times new roman\;"><span style="font-family: arial\;">Leon Sullivan Way</span></span></span></span></font><span style="color: rgb(0\, 0\, 0)\;"><span style="font-size: medium\;"><span style="font-family: times new roman\;"><span style="font-family: arial\;">)\, as well as </span></span></span></span>the Clay Center lot (</span></span></span></span><span style="color: rgb(178\, 34\, 34)\;"><span style="font-size: medium\;"><span style="font-family: times new roman\;"><span style="font-family: arial\;">Washington Street</span></span></span></span><span style="color: rgb(0\, 0\, 0)\;"><span style="font-size: medium\;"><span style="font-family: times new roman\;"><span style="font-family: arial\;">).</span></span></span></span><br />\n	<br />\n	<br />\n	<span style="color: rgb(0\, 0\, 0)\;"><span style="font-size: medium\;"><span style="font-family: times new roman\;">Learn the ins and outs of healthcare reform at the next SUCCESStrategies luncheon presented by the Charleston Area Alliance.<br />\n	<br />\n	The event will&nbsp\;focus&nbsp\;on the&nbsp\;Affordable Care Act and&nbsp\;how it will affect both employees and employers. At the luncheon\,&nbsp\;a panel of local experts will discuss the new healthcare act&nbsp\;slated to&nbsp\;take effect&nbsp\;in January 2014.<br />\n	<br />\n	Sally Smith of Bowles Rice will moderate the discussion.<br />\n	<br />\n	Panelists include:</span></span></span></div>\n<div style="color: gray\;">\n	<ul>\n		<li>\n			<span style="color: rgb(0\, 0\, 0)\;"><span style="font-size: medium\;"><span style="font-family: times new roman\;">Renate Pore\, Director of Health Policy\, West Virginians for Affordable Healthcare </span></span></span></li>\n		<li>\n			<span style="color: rgb(0\, 0\, 0)\;"><span style="font-size: medium\;"><span style="font-family: times new roman\;">Jeremiah Samples\, Insurance Program Manager\, WV Office of Insurance Commissioner </span></span></span></li>\n		<li>\n			<span style="color: rgb(0\, 0\, 0)\;"><span style="font-size: medium\;"><span style="font-family: times new roman\;">Matt Coleman\, Founder &amp\; CEO\, Office &amp\; Commercial Cleaning </span></span></span></li>\n		<li>\n			<span style="color: rgb(0\, 0\, 0)\;"><span style="font-size: medium\;"><span style="font-family: times new roman\;">Steve Dexter\, CEO\, Thomas Hospital Systems </span></span></span></li>\n	</ul>\n</div>\n<span style="color: rgb(0\, 0\, 0)\;"><span style="font-size: medium\;"><span style="font-family: times new roman\;">Registration is $15 for Alliance Member Business employees\, and $25 for future members.&nbsp\;&nbsp\;Lunch will be provided. The panel discussion is scheduled from noon-1 p.m.\, followed by a 15 minute Q&amp\;A session.&nbsp\;<br />\n<br />\nAdvance registration is required. Click the blue registration button at top left to reserve your seat. If you work with an Alliance member business and need assistance locating your </span></span></span><span style="color: rgb(178\, 34\, 34)\;"><span style="font-size: medium\;"><span style="font-family: times new roman\;">password </span></span></span><span style="color: rgb(0\, 0\, 0)\;"><span style="font-size: medium\;"><span style="font-family: times new roman\;">to access exclusive discounts\, email <a href="mailto:LStrickland@CharlestonAreaAlliance.org?subject=Password%20Inquiry">Leigh Anne Strickland </a>(Director\, Member Programs &amp\; Services).</span></span></span><br />\n<br />\n<span style="color: rgb(0\, 0\, 0)\;"><span style="font-size: medium\;"><span style="font-family: times new roman\;">SUCCESStrategies is the Alliance&rsquo\;s premier professional development series.</span></span></span><br />\n
LOCATION:Charleston Area Alliance Large Conference Room 1116 Smith Street Charleston\, WV 25301
UID:e.1499.654
SEQUENCE:3
DTSTAMP:20260422T074448Z
URL:https://business.charlestonareaalliance.org/events/details/successtrategies-navigating-the-affordable-care-act-07-02-2013-654
END:VEVENT

END:VCALENDAR
