BEGIN:VCALENDAR
VERSION:2.0
PRODID:-//ChamberMaster//Event Calendar 2.0//EN
METHOD:PUBLISH
X-PUBLISHED-TTL:P3D
REFRESH-INTERVAL:P3D
CALSCALE:GREGORIAN
BEGIN:VEVENT
DTSTART:20140604T154500Z
DTEND:20140604T170000Z
X-MICROSOFT-CDO-ALLDAYEVENT:FALSE
SUMMARY:SUCCESSStrategies: Living Lean & Luscious with Millie Snyder June 2014
DESCRIPTION:Join Millie Snyder\, founder of Weight Watchers West Virginia\, in a discussion about living a lean and luscious lifestyle.\n\n\n\nLive Well Charlie West\, a Charleston Area Alliance campaign dedicated to workplace wellness\, is showcasing events each month to benefit people in the Kanawha Valley. \n\n\n\nThis month's Live Well Charlie West feature showcases  the release of Ms. Snyder's new cookbook\, "Lean & Luscious."  A Lean and Luscious lifestyle isn't about dieting or depriving oneself.  Learning how to eat and cook with easily obtainable ingredients utilizing easy to follow steps make these lifestyle changes a welcome journey.  Doing things differently begins with small steps and those need to be interesting\, fun and OMG enlightening!  Who knew???\n\n\n\nJoin Millie over lunch on Wednesday\, June 4 from 11:45am-1pm at the Charleston Area Alliance.\n\n\n\nThose attending the Lunch 'n Learn will receive 15% off the list price of the "Lean & Luscious" cookbook.\n\n\n\nRegistration is $10 and covers the cost of lunch.\n\n\n\nLive Well Charlie West aims to connect employees and employers to wellness resources. The campaign works to create a dialogue throughout the community about workplace wellness. It centers around four topic areas: drug abuse\, mental health\, nutrition and physical activity
X-ALT-DESC;FMTTYPE=text/html:<span style="font-size: 12px\;">Join Millie Snyder\, founder of Weight Watchers West Virginia\, in a discussion about living a lean and luscious lifestyle.</span><br style="font-size: 12px\;" />\n<br style="font-size: 12px\;" />\n<span style="font-size: 12px\;">Live Well Charlie West\, a Charleston Area Alliance campaign dedicated to workplace wellness\, is showcasing events each month to benefit people in the Kanawha Valley.&nbsp\;</span><br style="font-size: 12px\;" />\n<br style="font-size: 12px\;" />\n<span style="font-size: 12px\;">This month&#39\;s Live Well Charlie West feature showcases &nbsp\;the release of Ms. Snyder&#39\;s new cookbook\, &quot\;Lean &amp\; Luscious.&quot\; &nbsp\;</span><span style="font-size: 12px\;">A Lean and Luscious lifestyle isn&rsquo\;t about dieting or depriving oneself.&nbsp\; Learning how to eat and cook with easily obtainable ingredients utilizing easy to follow steps make these lifestyle changes a welcome journey.&nbsp\; Doing things differently begins with small steps and those need to be interesting\, fun and OMG enlightening!&nbsp\; Who knew???</span><br style="font-size: 12px\;" />\n<br style="font-size: 12px\;" />\n<span style="font-size: 12px\;">Join Millie over lunch on Wednesday\, June 4 from 11:45am-1pm at the Charleston Area Alliance.</span><br style="font-size: 12px\;" />\n<br style="font-size: 12px\;" />\n<span style="font-size: 12px\;">Those attending the Lunch &#39\;n Learn will receive 15% off the list price of the &quot\;Lean &amp\; Luscious&quot\; cookbook.</span><br style="font-size: 12px\;" />\n<br style="font-size: 12px\;" />\n<span style="font-size: 12px\;">Registration is $10 and covers the cost of lunch.</span><br style="font-size: 12px\;" />\n<br style="font-size: 12px\;" />\n<span style="font-size: 12px\;">Live Well Charlie West aims to connect employees and employers to wellness resources. The campaign works to create a dialogue throughout the community about workplace wellness. It centers around four topic areas: drug abuse\, mental health\, nutrition and physical activity&nbsp\;</span>
LOCATION:Charleston Area Alliance 1116 Smith Street Large Conference Room
UID:e.1499.707
SEQUENCE:3
DTSTAMP:20260421T180032Z
URL:https://business.charlestonareaalliance.org/events/details/successstrategies-living-lean-luscious-with-millie-snyder-june-2014-06-04-2014-707
END:VEVENT

END:VCALENDAR
