BEGIN:VCALENDAR
VERSION:2.0
PRODID:-//ChamberMaster//Event Calendar 2.0//EN
METHOD:PUBLISH
X-PUBLISHED-TTL:P3D
REFRESH-INTERVAL:P3D
CALSCALE:GREGORIAN
BEGIN:VEVENT
DTSTART:20121113T214500Z
DTEND:20121114T013000Z
X-MICROSOFT-CDO-ALLDAYEVENT:FALSE
SUMMARY:Speed Networking with the Stars 2012
DESCRIPTION:Don't miss this star-studded event to connect young professionals and experienced executives alike with the people they need to know to advance their careers\, their business and their community. Only 100 seats available.\n\n	\n\n	"Speed Networking with the Stars" will feature more than 100 of our region's most influential people from the business\, government\, non-profit\, education\, arts\, philanthropy and faith communities. Each attendee will rotate between a galaxy of West Virginia stars and will enjoy an exclusive three-minute one-on-one with 20-25 VIP's.\n\n	\n\n	Individual Ticket and Sponsorship purchase options are available for this event.\n\n	\n\n	Agenda for the evening:\n\n	4:45pm - Registration/Check-in opens\n\n	5:15pm - Networking with the Stars\n\n	7:30-8:30 All-star Reception\n\n	\n\n	Individual Ticket Prices:\n\n	Tickets include admission to the Networking Session and All Star Reception featuring beer\, wine and hors d'oeuvres.\n\n	$75 Alliance Members\n\n	$100 Future Members\n\n	*Early bird discount available through October 31\, 2012.\n\n	\n\n	\n\n	\n\n	Sponsorship opportunities include:\n\n	Title Sponsor: reserved\n\n	VIP Sponsor: $2500\n\n	   2 slots for your representative(s) to join the galaxy of stars and mentor attendees\n\n	   4 tickets to Speed Networking with the Stars\n\n	   6 tickets to All Star Reception\n\n	Power Broker: $1250\n\n	   1 slot for your representative to join the galaxy of stars and mentor attendees\n\n	   4 tickets to Speed Networking with the Stars\n\n	   5 tickets to All Star Reception\n\n	Insider: $500\n\n	   4 tickets to Speed Networking with the Stars   \n\n	   4 tickets to All Star Reception\n\n	\n\n	Please direct any sponsorship questions to JoEllen Zacks\, Senior Vice President.\n\n	\n\n	All other ticket inquiries should be directed to Deb Coffman.\n\n	\n\n	Online Registration Available for both Sponsor positions as well as individual tickets. Click the "Register" button at top of the Event Description.
X-ALT-DESC;FMTTYPE=text/html:<p>\n	Don&#39\;t miss this star-studded event to connect young professionals and experienced executives alike with the people they need to know to advance their careers\, their business and their community. Only 100 seats available.<br />\n	<br />\n	&quot\;Speed Networking with the Stars&quot\; will feature more than 100 of our region&#39\;s most influential people from the business\, government\, non-profit\, education\, arts\, philanthropy and faith communities. Each attendee will rotate between a galaxy of West Virginia stars and will enjoy an exclusive three-minute one-on-one with 20-25 VIP&#39\;s.<br />\n	<br />\n	Individual Ticket and Sponsorship purchase options are available for this event.<br />\n	<br />\n	<strong>Agenda for the evening:</strong><br />\n	4:45pm - Registration/Check-in opens<br />\n	5:15pm - Networking with the Stars<br />\n	7:30-8:30 All-star Reception<br />\n	<br />\n	<strong>Individual Ticket Prices:</strong><br />\n	Tickets include admission to the Networking Session and All Star Reception featuring beer\, wine and hors d&#39\;oeuvres.<br />\n	$75 Alliance Members<br />\n	$100 Future Members<br />\n	<span style="color:#b22222\;"><em>*Early bird discount available through October 31\, 2012.</em></span><br />\n	<br />\n	<br />\n	<br />\n	<strong>Sponsorship opportunities include:</strong><br />\n	<span style="color:#006400\;">Title Sponsor:</span> reserved<br />\n	<span style="color:#006400\;">VIP Sponsor:</span> $2500<br />\n	&nbsp\; &nbsp\;2 slots for your representative(s) to join the galaxy of stars and mentor attendees<br />\n	&nbsp\; &nbsp\;4 tickets to Speed Networking with the Stars<br />\n	&nbsp\; &nbsp\;6 tickets to All Star Reception<br />\n	<span style="color:#006400\;">Power Broker:</span> $1250<br />\n	&nbsp\; &nbsp\;1 slot for your representative to join the galaxy of stars and mentor attendees<br />\n	&nbsp\; &nbsp\;4 tickets to Speed Networking with the Stars<br />\n	&nbsp\; &nbsp\;5 tickets to All Star Reception<br />\n	<span style="color:#006400\;">Insider:</span> $500<br />\n	&nbsp\; &nbsp\;4 tickets to Speed Networking with the Stars &nbsp\;&nbsp\;<br />\n	&nbsp\; &nbsp\;4 tickets to All Star Reception<br />\n	<br />\n	Please direct any sponsorship questions to <a href="mailto:JZacks@charlestonareaalliance.org?subject=Speed%20Networking%202012%20Inquiry">JoEllen Zacks</a>\, Senior Vice President.<br />\n	<br />\n	All other ticket inquiries should be directed to <a href="mailto:DCoffman@charlestonareaalliance.org?subject=Speed%20Networking%202012%20Inquiry">Deb Coffman</a>.<br />\n	<br />\n	<span style="color:#b22222\;">Online Registration Available</span> for both Sponsor positions as well as individual tickets. Click the &quot\;Register&quot\; button at top of the Event Description.<br />\n	<br />\n	<br />\n	<br />\n	<br />\n	<br />\n	<br />\n	<br />\n	&nbsp\;</p>\n
LOCATION:Charleston Marriott Town Center 200 Lee Street Charleston\, WV 25301
UID:e.1499.511
SEQUENCE:3
DTSTAMP:20260422T185536Z
URL:https://business.charlestonareaalliance.org/events/details/speed-networking-with-the-stars-2012-11-13-2012-511
END:VEVENT

END:VCALENDAR
