BEGIN:VCALENDAR
VERSION:2.0
PRODID:-//ChamberMaster//Event Calendar 2.0//EN
METHOD:PUBLISH
X-PUBLISHED-TTL:P3D
REFRESH-INTERVAL:P3D
CALSCALE:GREGORIAN
BEGIN:VEVENT
DTSTART:20111013T040000Z
DTEND:20111013T040000Z
X-MICROSOFT-CDO-ALLDAYEVENT:FALSE
SUMMARY:Speed Networking with the Stars 2011 Sponsors
DESCRIPTION:
X-ALT-DESC;FMTTYPE=text/html:
LOCATION:The Charleston Marriott
UID:e.1499.395
SEQUENCE:3
DTSTAMP:20260424T201416Z
URL:https://business.charlestonareaalliance.org/events/details/speed-networking-with-the-stars-2011-sponsors-10-13-2011-395
END:VEVENT

END:VCALENDAR
