BEGIN:VCALENDAR
VERSION:2.0
PRODID:-//ChamberMaster//Event Calendar 2.0//EN
METHOD:PUBLISH
X-PUBLISHED-TTL:P3D
REFRESH-INTERVAL:P3D
CALSCALE:GREGORIAN
BEGIN:VEVENT
DTSTART:20111013T040000Z
DTEND:20111013T040000Z
X-MICROSOFT-CDO-ALLDAYEVENT:FALSE
SUMMARY:Speed Networking 2011 Attendees
DESCRIPTION:
X-ALT-DESC;FMTTYPE=text/html:
LOCATION:Charleston Marriott
UID:e.1499.396
SEQUENCE:3
DTSTAMP:20260424T195119Z
URL:https://business.charlestonareaalliance.org/events/details/speed-networking-2011-attendees-10-13-2011-396
END:VEVENT

END:VCALENDAR
