BEGIN:VCALENDAR
VERSION:2.0
PRODID:-//ChamberMaster//Event Calendar 2.0//EN
METHOD:PUBLISH
X-PUBLISHED-TTL:P3D
REFRESH-INTERVAL:P3D
CALSCALE:GREGORIAN
BEGIN:VEVENT
DTSTART:20171018T210000Z
DTEND:20171018T230000Z
X-MICROSOFT-CDO-ALLDAYEVENT:FALSE
SUMMARY:Space Walk
DESCRIPTION:Curious about spaces and buildings in downtown Charleston?\n\n\n\nJoin the Charleston Area Alliance for Space Walk\, presented by GAI Consultants. The self-guided walking tour will take you into a variety of multi-dimensional downtown digs\, including many hidden gems and blank spaces primed for renovation.\n\n\n\nSpace Walk properties include:\n\n	180-182 Summers St.\, Charleston\, WV 25301\, presented by Goldman Associates\n	209 Hale St.\, Charleston\, WV 25301\, presented by West Virginia Commercial\n	232 Capitol St.\, Charleston\, WV 25301\, presented by Capitol Center\n	135 Summers St.\, Charleston\, WV 25301 Summers Square\, presented by Berkshire Hathaway\n	123 Summers St.\, Charleston\, WV 25301 Capitol Theater\, presented by Berkshire Hathaway\n	118 Capitol St.\, Charleston\, WV 253001\, presented by Melanie McClellan and Real Estate Resources\n	817 Quarrier St.\, Charleston\, WV 25301\, presented by April Epperly and Real Estate Resources\n	1031 Quarrier St\, Suite C\, Charleston\, WV 25301\, presented by Riggs Corporation\n	716 Lee St.\, Charleston\, WV 25301\, presented by Rusty Webb\n	170 Summers St.\, Charleston\, WV 25301 Dupont Hotel\, presented by the City of Charleston\n\nClick here for a map of participating properties. Designed for the intellectually curious as well as enterprising entrepreneurs\, step into downtown's most historic buildings and lesser-known spaces. \n\n\n\nUse the map as tool to discover downtown's amazing vacant properties. Property managers will be at all the participating spaces to walk you through the buildings and answer any questions. \n\n\n\nSpace Walk is a Charleston Area Alliance Urban Living Week event. Urban Living Week highlights the advantages of living\, working and playing in downtown Charleston. Additional Urban Living Week events include Loft Walk Tuesday\, Oct. 17 and ArtWalk Thursday\, Oct. 19.
X-ALT-DESC;FMTTYPE=text/html:<br />\nCurious about spaces and buildings in downtown Charleston?<br />\n<br />\nJoin the Charleston Area Alliance for Space Walk\, presented by GAI Consultants. The self-guided walking tour will take you into a variety of multi-dimensional downtown digs\, including many hidden gems and blank spaces primed for renovation.<br />\n<br />\nSpace Walk properties include:\n<ul>\n	<li>180-182 Summers St.\, Charleston\, WV 25301\, presented by Goldman Associates</li>\n	<li>209 Hale St.\, Charleston\, WV 25301\, presented by West Virginia Commercial</li>\n	<li>232 Capitol St.\, Charleston\, WV 25301\, presented by&nbsp\;Capitol Center</li>\n	<li>135 Summers St.\, Charleston\, WV 25301 Summers Square\, presented by&nbsp\;Berkshire Hathaway</li>\n	<li>123 Summers St.\, Charleston\, WV 25301 Capitol Theater\, presented by&nbsp\;Berkshire Hathaway</li>\n	<li>118 Capitol St.\, Charleston\, WV 253001\, presented by Melanie McClellan and&nbsp\;Real Estate Resources</li>\n	<li>817 Quarrier St.\, Charleston\, WV 25301\, presented by&nbsp\;April Epperly and Real Estate Resources</li>\n	<li>1031 Quarrier St\, Suite C\, Charleston\, WV 25301\, presented by&nbsp\;Riggs Corporation</li>\n	<li>716 Lee St.\, Charleston\, WV 25301\, presented by&nbsp\;Rusty Webb</li>\n	<li>170 Summers St.\, Charleston\, WV 25301 Dupont Hotel\, presented by the City&nbsp\;of Charleston</li>\n</ul>\n<a href="https://chambermaster.blob.core.windows.net/userfiles/UserFiles/chambers/1499/File/SpaceWalkMap10.18.17.jpg">Click here</a> for a map of participating properties.&nbsp\;Designed for the intellectually curious as well as enterprising entrepreneurs\, step into downtown&rsquo\;s most historic buildings and lesser-known spaces.&nbsp\;<br />\n<br />\nUse the map as tool to discover downtown&#39\;s amazing vacant properties. Property managers will be at all the participating spaces to walk you through the buildings and answer any questions.&nbsp\;<br />\n<br />\nSpace Walk is a Charleston Area Alliance Urban Living Week event. Urban Living Week highlights the advantages of living\, working and playing in downtown Charleston. Additional Urban Living Week events include <a href="http://charlestonareaalliance.org/events/details/loft-walk-1973" target="_blank">Loft Walk</a> Tuesday\, Oct. 17 and <a href="http://charlestonareaalliance.org/events/details/downtown-charleston-artwalk-1910">ArtWalk</a> Thursday\, Oct. 19.&nbsp\;&nbsp\;<br />\n<br />\n&nbsp\;
LOCATION:Downtown Charleston
UID:e.1499.1968
SEQUENCE:3
DTSTAMP:20260419T140037Z
URL:https://business.charlestonareaalliance.org/events/details/space-walk-1968
END:VEVENT

END:VCALENDAR
