BEGIN:VCALENDAR
VERSION:2.0
PRODID:-//ChamberMaster//Event Calendar 2.0//EN
METHOD:PUBLISH
X-PUBLISHED-TTL:P3D
REFRESH-INTERVAL:P3D
CALSCALE:GREGORIAN
BEGIN:VEVENT
DTSTART:20151008T213000Z
DTEND:20151008T233000Z
X-MICROSOFT-CDO-ALLDAYEVENT:FALSE
SUMMARY:Social Hour - Oct 2015
DESCRIPTION:Generation Charleston's monthly Social Hour will be held at Recovery Sports Grill at 5:30 p.m. Thursday\, October 8.\n\n \n\nJoin us for complimentary food\, drink specials and the opportunity to mix and mingle with the area's young talent.  \n\n\n\nSocial Hour is always open to the public with no admission fee.\n\n\n\nMix and mingle with Generation Charleston and the rest of city's young talent. Social Hour always draws a crowd.\n\n\n\nGeneration Charleston: Live\, Work\, Play
X-ALT-DESC;FMTTYPE=text/html:Generation Charleston&#39\;s monthly Social Hour&nbsp\;will be held at Recovery Sports Grill at 5:30 p.m. Thursday\, October 8.<br />\n&nbsp\;<br />\nJoin us for complimentary food\, drink specials and the opportunity to mix and mingle with the area&#39\;s young talent. &nbsp\;<br />\n<br />\nSocial Hour is always open to the public with no admission fee.<br />\n<br />\nMix and mingle with Generation Charleston and the rest of city&#39\;s young talent. Social Hour always draws a crowd.<br />\n<br />\nGeneration Charleston: Live\, Work\, Play
LOCATION:Recovery Sports Grill 600 Kanawha Blvd. E Charleston\, WV 25301
UID:e.1499.811
SEQUENCE:3
DTSTAMP:20260420T213455Z
URL:https://business.charlestonareaalliance.org/events/details/social-hour-oct-2015-10-08-2015-811
END:VEVENT

END:VCALENDAR
