BEGIN:VCALENDAR
VERSION:2.0
PRODID:-//ChamberMaster//Event Calendar 2.0//EN
METHOD:PUBLISH
X-PUBLISHED-TTL:P3D
REFRESH-INTERVAL:P3D
CALSCALE:GREGORIAN
BEGIN:VEVENT
DTSTART:20160107T223000Z
DTEND:20160108T003000Z
X-MICROSOFT-CDO-ALLDAYEVENT:FALSE
SUMMARY:Social Hour - Jan 2016
DESCRIPTION:Generation Charleston's monthly Social Hour will be held at Adelphia Sports Bar & Grille at 5:30 p.m. Thursday\, January 7.\n\n \n\nJoin us for complimentary food\, drink specials and the opportunity to mix and mingle with the area's young talent.  \n\n\n\nSocial Hour is always open to the public with no admission fee.\n\n\n\nMix and mingle with Generation Charleston and the rest of city's young talent. Social Hour always draws a crowd.\n\n\n\nGeneration Charleston: Live\, Work\, Play
X-ALT-DESC;FMTTYPE=text/html:Generation Charleston&#39\;s monthly Social Hour&nbsp\;will be held at Adelphia Sports Bar &amp\; Grille at 5:30 p.m. Thursday\, January 7.<br />\n&nbsp\;<br />\nJoin us for complimentary food\, drink specials and the opportunity to mix and mingle with the area&#39\;s young talent. &nbsp\;<br />\n<br />\nSocial Hour is always open to the public with no admission fee.<br />\n<br />\nMix and mingle with Generation Charleston and the rest of city&#39\;s young talent. Social Hour always draws a crowd.<br />\n<br />\nGeneration Charleston: Live\, Work\, Play
LOCATION:Adelphia Sports Bar & Grille 218 Capitol St. Charleston\, WV 25301
UID:e.1499.821
SEQUENCE:3
DTSTAMP:20260420T182701Z
URL:https://business.charlestonareaalliance.org/events/details/social-hour-jan-2016-01-07-2016-821
END:VEVENT

END:VCALENDAR
