BEGIN:VCALENDAR
VERSION:2.0
PRODID:-//ChamberMaster//Event Calendar 2.0//EN
METHOD:PUBLISH
X-PUBLISHED-TTL:P3D
REFRESH-INTERVAL:P3D
CALSCALE:GREGORIAN
BEGIN:VEVENT
DTSTART:20160407T213000Z
DTEND:20160407T230000Z
X-MICROSOFT-CDO-ALLDAYEVENT:FALSE
SUMMARY:Social Hour - April 2016
DESCRIPTION:Generation Charleston's monthly Social Hour will be held at Tony The Tailor's at 5:30 p.m. Thursday\, April 7.\n\n \n\nJoin us for complimentary food\, drink specials and the opportunity to mix and mingle with the area's young talent.\n\n\n\nDuring April Social Hour\, Generation Charleston will help other young professionals throughout the greater Kanawha Valley by teaming up with Charleston Area Alliance members Tony The Tailor\, Ivor's Trunk\, Big Brothers Big Sisters of South Central West Virginia and the Charleston YWCA for a Dress for Success Clothing Drive. Suits and other professional attire may be dropped off at Social Hour or Ivor's Trunk located at 819 Lee St. E. \n\n\n\nBig Brothers Big Sisters and the YWCA will distribute the donated professional attire to those in need for job interviews.\n\n\n\nParticipants are encouraged to donate the following: \n\n	Men's dress pants\, dress shirts\, suits\, dress shoes and ties of any color at Tony The Tailor's. \n	Ladies' dress pants\, suits\, dress shirts\, dresses and shoes at Ivor's Trunk. \n\n\n\nSocial Hour is always open to the public with no admission fee. \n\n\n\nMix and mingle with Generation Charleston and the rest of city's young talent. Social Hour always draws a crowd.\n\n\n\nGeneration Charleston: Live\, Work\, Play
X-ALT-DESC;FMTTYPE=text/html:Generation Charleston&#39\;s monthly Social Hour&nbsp\;will be held at Tony The Tailor&#39\;s at 5:30 p.m. Thursday\, April 7.<br />\n&nbsp\;<br />\nJoin us for complimentary food\, drink specials and the opportunity to mix and mingle with the area&#39\;s young talent.<br />\n<br />\nDuring April&nbsp\;Social Hour\, Generation Charleston will help other young professionals throughout the greater Kanawha Valley by teaming up with Charleston Area Alliance members Tony The Tailor\, Ivor&#39\;s Trunk\, Big Brothers Big Sisters of South Central West Virginia and the Charleston YWCA for a Dress for Success Clothing Drive. Suits and other professional attire may be dropped off at Social Hour or Ivor&#39\;s Trunk located at 819 Lee St. E.&nbsp\;<br />\n<br />\nBig Brothers Big Sisters and the YWCA will distribute the donated professional attire to those in need for job interviews.<br />\n<br />\nParticipants are encouraged to donate the following:&nbsp\;\n<ul>\n	<li>Men&#39\;s dress pants\, dress shirts\, suits\, dress shoes and ties of any color at Tony The Tailor&#39\;s.&nbsp\;</li>\n	<li>Ladies&#39\; dress pants\, suits\, dress shirts\, dresses and shoes at Ivor&#39\;s Trunk.&nbsp\;</li>\n</ul>\n<br />\nSocial Hour is always open to the public with no admission fee.&nbsp\;<br />\n<br />\nMix and mingle with Generation Charleston and the rest of city&#39\;s young talent. Social Hour always draws a crowd.<br />\n<br />\nGeneration Charleston: Live\, Work\, Play
LOCATION:Tony The Tailor 822 Virginia St. E Charleston\, WV 25301
UID:e.1499.833
SEQUENCE:3
DTSTAMP:20260420T132111Z
URL:https://business.charlestonareaalliance.org/events/details/social-hour-april-2016-04-07-2016-833
END:VEVENT

END:VCALENDAR
