BEGIN:VCALENDAR
VERSION:2.0
PRODID:-//ChamberMaster//Event Calendar 2.0//EN
METHOD:PUBLISH
X-PUBLISHED-TTL:P3D
REFRESH-INTERVAL:P3D
CALSCALE:GREGORIAN
BEGIN:VEVENT
DTSTART;VALUE=DATE:20171125
DTEND;VALUE=DATE:20171126
TRANSP:TRANSPARENT
X-MICROSOFT-CDO-ALLDAYEVENT:TRUE
SUMMARY:Small Business Saturday
DESCRIPTION:Two days following Thanksgiving\, Small Business Saturday gives small businesses the chance to showcase the variety and quality of their goods while cultivating a network of independent businesses united for a common cause   making the Charleston area a better place to live. From fine jewelry to antiques to dining establishments\, Small Business Saturday supports all types of retailers and service providers. Small Business Saturday is a day to #shopsmallwv!\n\n\n\nTo inspire our community to get out and support these small\, local businesses that create jobs\, boost the economy\, and make the Kanawha Valley unique\, the Charleston Area Alliance has been a Small Business Saturday Neighborhood Champion since 2011. Each year we partner with small businesses from all corners of the region to remind our community about the advantages of shopping small\, encouraging shoppers to reinvest their hard-earned money back into our community.\n\n\n\nWhether you are a small business owner or a consumer\, please shop small this year on November 25th.
X-ALT-DESC;FMTTYPE=text/html:<br />\nTwo days following Thanksgiving\, Small Business Saturday gives small businesses the chance to showcase the variety and quality of their goods while cultivating a network of independent businesses united for a common cause &ndash\; making the Charleston area a better place to live. From fine jewelry to antiques to dining establishments\, Small Business Saturday supports all types of retailers and service providers. Small Business Saturday is a day to&nbsp\;#shopsmallwv!<br />\n<br />\nTo inspire our community to get out and support these small\, local businesses that create jobs\, boost the economy\, and make the Kanawha Valley unique\, the Charleston Area Alliance has been a Small Business Saturday Neighborhood Champion since 2011. Each year we partner with small businesses from all corners of the region to remind our community about the advantages of shopping small\, encouraging shoppers to reinvest their hard-earned money back into our community.<br />\n<br />\nWhether you are a small business owner or a consumer\, please shop small this year on&nbsp\;November 25th.
LOCATION:
UID:e.1499.1971
SEQUENCE:3
DTSTAMP:20260419T124409Z
URL:https://business.charlestonareaalliance.org/events/details/small-business-saturday-1971
END:VEVENT

END:VCALENDAR
