BEGIN:VCALENDAR
VERSION:2.0
PRODID:-//ChamberMaster//Event Calendar 2.0//EN
METHOD:PUBLISH
X-PUBLISHED-TTL:P3D
REFRESH-INTERVAL:P3D
CALSCALE:GREGORIAN
BEGIN:VEVENT
DTSTART:20130731T220000Z
DTEND:20130801T000000Z
X-MICROSOFT-CDO-ALLDAYEVENT:FALSE
SUMMARY:SAGE: Meet Lewis Jett - Post-Harvest Handling Practices for Top Quality Produce
DESCRIPTION:Join Dr. Lewis Jett\, a Commercial Horticulture Specialist with WVU Extension Service\, as he discusses appropriate production practices\, careful harvesting\, proper packaging\, storage\, and transport that all contribute to good produce quality.  SAGE growers will be in attendance but the workshop is open to the community at-large.\n\n		\n\n		This course covers post-harvest practices suitable for small-scale operations\, and points out the importance of production and harvesting techniques for improving quality and storability.  Various methods for cooling fresh produce are discussed\, and resources are provided for further information\, equipment\, and supplies.\n\n		\n\n		Advance registration is required. Register by clicking the blue button at top left. If you work with an Alliance member business and need assistance locating your password\, email Leigh Anne Strickland - Director\, Member Programs & Services.\n\n		\n\n		Learn more about the Alliance's SAGE program here. Also download this PDF for additional information: Why Sustainable Agriculture?\n\n		\n\n		\n\n		About the speaker:\n	\n		WVU Extension Specialist  \n\n		Commercial Horticulture\n	\n		Irrigation methods\, fertilization and pest management\, seasonal techniques and post-harvest handling of fruits and vegetables are all important parts of maintaining a healthy\, rewarding garden. Lewis Jett\, West Virginia University Extension Service's specialist in commercial horticulture\, educates West Virginians on these methods.\n	\n		Jett has worked with Extension since 2007\, specializing in the growth of vegetables and small fruit crops. He is passionate about his work\, developing practical\, economical production techniques for commercial vegetable growers and embarking on tours\, workshops and production meetings that help growers expand their output.\n	\n		Recognizing the importance of new technology in gardening\, he has worked to evaluate low-cost tunnels for extended production of high-value small fruits and vegetables. He continually works to obtain funds for horticulture development and acts as a resource for commercial growers across the state.\n	\n		Before Jett came to WVU Extension\, he conducted research at Louisiana State University and the University of Missouri\, Columbia. He has also spent time in East Africa\, helping small farmers in Kenya grow vegetables. He earned his bachelor's degree in agricultural economics from West Virginia University\, and he went on to earn both his master's and doctorate degrees in horticulture from Virginia Tech.\n	\n		Jett can be reached at 304-293-2634 or Lewis.Jett@mail.wvu.edu.
X-ALT-DESC;FMTTYPE=text/html:<div style="color: gray\;">\n	<p style="margin: 0in 0in 0pt\;">\n		<span style="color: rgb(0\, 0\, 0)\;"><span style="font-family: &quot\;Arial&quot\;\,&quot\;sans-serif&quot\;\; font-size: 10pt\;"><span style="padding: 0in\; border: 1pt windowtext\; font-family: &quot\;Arial&quot\;\,&quot\;sans-serif&quot\;\; font-size: 10pt\; mso-fareast-font-family: Calibri\; mso-ansi-language: EN-US\; mso-fareast-language: EN-US\; mso-bidi-language: AR-SA\; mso-fareast-theme-font: minor-latin\; mso-border-alt: none windowtext 0in\;">Join Dr. Lewis Jett\, a&nbsp\;Commercial Horticulture Specialist with WVU Extension Service\, as he discusses appropriate production practices\, careful harvesting\, proper packaging\, storage\, and transport that all contribute to good produce quality.&nbsp\;&nbsp\;SAGE growers will be in attendance but the workshop is open to the community at-large.</span></span></span><br />\n		<br />\n		<span style="color: black\; font-family: &quot\;Arial&quot\;\,&quot\;sans-serif&quot\;\; font-size: 10pt\;">This course covers post-harvest practices suitable for small-scale operations\, and points out the importance of production and harvesting techniques for improving quality and storability. &nbsp\;Various methods for cooling fresh produce are discussed\, and resources are provided for further information\, equipment\, and supplies.</span><br />\n		<br />\n		<span style="color: rgb(178\, 34\, 34)\;"><span style="font-family: &quot\;Arial&quot\;\,&quot\;sans-serif&quot\;\; font-size: 10pt\;"><strong>Advance registration is required.</strong></span></span><span style="color: black\; font-family: &quot\;Arial&quot\;\,&quot\;sans-serif&quot\;\; font-size: 10pt\;"> Register by clicking the blue button at top left. If you work with an Alliance member business and need assistance locating your </span><span style="color: rgb(178\, 34\, 34)\;"><span style="font-family: &quot\;Arial&quot\;\,&quot\;sans-serif&quot\;\; font-size: 10pt\;">password</span></span><span style="color: black\; font-family: &quot\;Arial&quot\;\,&quot\;sans-serif&quot\;\; font-size: 10pt\;">\, email <a href="mailto:LStrickland@CharlestonAreaAlliance.org?subject=Password%20Inquiry">Leigh Anne Strickland </a>- <em>Director\, Member Programs &amp\; Services</em>.<br />\n		<br />\n		Learn more about the Alliance&#39\;s SAGE program <a href="http://www.charlestonareaalliance.org/economic-development/sage-(sustainable-agriculture-entrepreneurs)/">here</a>. Also download this PDF for additional information: <a href="http://cloud.chambermaster.com/userfiles/UserFiles/chambers/1499/File/Why-Sustainable-Agriculturepdf.pdf">Why Sustainable Agriculture?</a><br />\n		<br />\n		<br />\n		About the speaker:</span></p>\n	<h4>\n		<span style="color: rgb(0\, 0\, 0)\;"><em>WVU Extension Specialist &ndash\;<br />\n		Commercial Horticulture</em></span></h4>\n	<p>\n		<span style="font-size: 12px\;"><span style="color: rgb(0\, 0\, 0)\;">Irrigation methods\, fertilization and pest management\, seasonal techniques and post-harvest handling of fruits and vegetables are all important parts of maintaining a healthy\, rewarding garden. Lewis Jett\, West Virginia University Extension Service&rsquo\;s specialist in commercial horticulture\, educates West Virginians on these methods.</span></span></p>\n	<p>\n		<span style="font-size: 12px\;"><span style="color: rgb(0\, 0\, 0)\;">Jett has worked with Extension since 2007\, specializing in the growth of vegetables and small fruit crops. He is passionate about his work\, developing practical\, economical production techniques for commercial vegetable growers and embarking on tours\, workshops and production meetings that help growers expand their output.</span></span></p>\n	<p>\n		<span style="font-size: 12px\;"><span style="color: rgb(0\, 0\, 0)\;">Recognizing the importance of new technology in gardening\, he has worked to evaluate low-cost tunnels for extended production of high-value small fruits and vegetables. He continually works to obtain funds for horticulture development and acts as a resource for commercial growers across the state.</span></span></p>\n	<p>\n		<span style="font-size: 12px\;"><span style="color: rgb(0\, 0\, 0)\;">Before Jett came to <span class="caps">WVU</span> Extension\, he conducted research at Louisiana State University and the University of Missouri\, Columbia. He has also spent time in East Africa\, helping small farmers in Kenya grow vegetables. He earned his bachelor&rsquo\;s degree in agricultural economics from West Virginia University\, and he went on to earn both his master&rsquo\;s and doctorate de</span>grees in horticulture from Virginia Tech.</span></p>\n	<p>\n		<span style="font-size: 12px\;"><span style="color: rgb(0\, 0\, 0)\;">Jett can be reached at <a href="tel:304-293-2634">304-293-2634</a> or</span> <a href="mailto:Lewis.Jett@mail.wvu.edu">Lewis.Jett@mail.wvu.edu</a>.</span></p>\n	<p style="margin: 0in 0in 0pt\;">\n		<br />\n		<br />\n		&nbsp\;</p>\n</div>\n
LOCATION:Charleston Area Alliance Large Conference Room 1116 Smith Street Charleston\, WV 25301
UID:e.1499.655
SEQUENCE:3
DTSTAMP:20260422T074711Z
URL:https://business.charlestonareaalliance.org/events/details/sage-meet-lewis-jett-post-harvest-handling-practices-for-top-quality-produce-07-31-2013-655
END:VEVENT

END:VCALENDAR
