BEGIN:VCALENDAR
VERSION:2.0
PRODID:-//ChamberMaster//Event Calendar 2.0//EN
METHOD:PUBLISH
X-PUBLISHED-TTL:P3D
REFRESH-INTERVAL:P3D
CALSCALE:GREGORIAN
BEGIN:VEVENT
DTSTART:20150423T154500Z
DTEND:20150423T170000Z
X-MICROSOFT-CDO-ALLDAYEVENT:FALSE
SUMMARY:RNR Tire Express Business Networking Luncheon
DESCRIPTION:FREE LUNCH\n\n(limited strings attached)\n\n\n\nYou're invited to a business networking luncheon hosted by RNR Tire Express & Custom Wheels a thriving Franchise 500  business and industry leader that's eager to award franchise stores throughout West Virginia. They want to share their story and franchise opportunity with people who are interested in owning their own business or know someone who is ready to scratch their entrepreneurial itch. Please join RNR as their guest (and bring a friend) for lunch.\n\n\n\nThis is a free event and open to the public\, but registration is required. Please RSVP by clicking on the "Register Now" link above.\n\n\n\nThe event will be hosted at the Charleston Area Alliance (1116 Smith Street\, Charleston\, WV). Parking is available on site.\n\n\n\nIf you have any questions\, please call Justin Gaull at (304) 340-4253.
X-ALT-DESC;FMTTYPE=text/html:<span style="font-size:48.0pt\;">FREE LUNCH</span><br />\n<span style="font-size:12.0pt\;">(limited strings attached)</span><br />\n<br />\nYou&rsquo\;re invited to a <strong><em>business networking</em></strong> luncheon hosted by <a href="http://www.rnrwheels.com/">RNR Tire Express &amp\; Custom Wheels</a>&mdash\;a thriving Franchise 500&reg\; business and industry leader that&rsquo\;s eager to award franchise stores throughout West Virginia. They want to share their story and franchise opportunity with people who are interested in owning their own business or know someone who is ready to scratch their entrepreneurial itch. Please join RNR as their guest (and bring a friend) for lunch.<br />\n<br />\nThis is a free event and open to the public\, but <strong>registration is required</strong>. Please RSVP by clicking on the &quot\;Register Now&quot\; link above.<br />\n<br />\nThe event will be hosted at the Charleston Area Alliance (1116 Smith Street\, Charleston\, WV). Parking is available on site.<br />\n<br />\nIf you have any questions\, please call Justin Gaull at (304) 340-4253.
LOCATION:Charleston Area Alliance 1116 Smith Street Charleston\, WV 25301
UID:e.1499.781
SEQUENCE:3
DTSTAMP:20260421T055405Z
URL:https://business.charlestonareaalliance.org/events/details/rnr-tire-express-business-networking-luncheon-04-23-2015-781
END:VEVENT

END:VCALENDAR
