BEGIN:VCALENDAR
VERSION:2.0
PRODID:-//ChamberMaster//Event Calendar 2.0//EN
METHOD:PUBLISH
X-PUBLISHED-TTL:P3D
REFRESH-INTERVAL:P3D
CALSCALE:GREGORIAN
BEGIN:VEVENT
DTSTART:20170921T130000Z
DTEND:20170921T170000Z
X-MICROSOFT-CDO-ALLDAYEVENT:FALSE
SUMMARY:Professional Headshot Workshop
DESCRIPTION:A professional headshot is a staple of today's media-driven business world. Between LinkedIn\, social media and business websites\, a great headshot is more powerful and more important than ever. \n\n\n\nThe Alliance is working with Chris Gosses Photography to host a Professional Headshot Workshop Thursday\, Sept. 21\, offering members and future members discounted rates on professional headshots. Participants can register for 15-minute time slots with Gosses. Deliverables will be three of the best shots\, retouched and ready to use. \n\n\n\nIn today's world\, there is no place for low quality selfies and cropped-out profile pictures with your ex-girlfriend's left arm. Professional headshots convey confidence\, professionalism\, and approachability and give you a competitive edge.\n\n \n\nGosses is a Charleston-based professional photographer\, specializing in lifestyle and advertising imagery. He is an expert in lighting\, texture and composition and uses his specialized techniques to create stunning portraits and headshots for his clientele.\n\n\n\nHeadshots sessions are $40 for Alliance members $70 for future members.
X-ALT-DESC;FMTTYPE=text/html:A professional headshot is a staple of today&rsquo\;s media-driven business world. Between LinkedIn\, social media and&nbsp\;business websites\, a great headshot is more powerful and more important than ever.&nbsp\;<br />\n<br />\nThe Alliance is working with&nbsp\;<a href="https://gossesphotography.com/index.html" target="_blank">Chris&nbsp\;Gosses&nbsp\;Photography</a>&nbsp\;to host a Professional Headshot Workshop Thursday\, Sept. 21\, offering members and future members discounted rates on professional headshots. Participants can register for 15-minute time slots with Gosses. Deliverables will be three of the best shots\, retouched and ready to use.&nbsp\;<br />\n<br />\nIn today&rsquo\;s world\, there is no place for low quality selfies and cropped-out profile pictures with your ex-girlfriend&rsquo\;s left arm. Professional headshots convey confidence\, professionalism\, and approachability and give you a competitive edge.<br />\n&nbsp\;<br />\nGosses is a Charleston-based professional photographer\, specializing in lifestyle and advertising imagery. He is an expert in lighting\, texture and composition and uses his specialized techniques to create stunning portraits and headshots for his clientele.<br />\n<br />\nHeadshots sessions are $40 for Alliance members $70 for future members.&nbsp\;
LOCATION:Charleston Area Alliance 1116 Smith St. Charleston\, WV 25301
UID:e.1499.1959
SEQUENCE:3
DTSTAMP:20260419T151739Z
URL:https://business.charlestonareaalliance.org/events/details/professional-headshot-workshop-1959
END:VEVENT

END:VCALENDAR
