BEGIN:VCALENDAR
VERSION:2.0
PRODID:-//ChamberMaster//Event Calendar 2.0//EN
METHOD:PUBLISH
X-PUBLISHED-TTL:P3D
REFRESH-INTERVAL:P3D
CALSCALE:GREGORIAN
BEGIN:VEVENT
DTSTART:20140911T160000Z
DTEND:20140911T170000Z
X-MICROSOFT-CDO-ALLDAYEVENT:FALSE
SUMMARY:Neural Networking Luncheon
DESCRIPTION:Neural Networking Luncheon\n\nThursday\, Sept. 11\n\nNoon- 1 p.m.\n\nCharleston Area Alliance\n\n1116 Smith Street\n\n\n\nThe Charleston Area Alliance is looking for graduates from out-of-state colleges to help with a new program.\n\n\n\nNeural Networking is the Alliance's new entrepreneurial recruitment initiative\, which set to begin this fall.\n\n\n\nThe program will send Charleston-area professionals with ties to out-of-state colleges pipelines back to campus to interact with students.\n\n\n\nThe goal is to highlight opportunities and incentives available to those who are willing to relocate and start their ventures in the Kanawha Valley.  \n\n\n\nIf you are a graduate of an out-of-state college and would like to take part in this exciting new program\, join the Alliance for a luncheon this Thursday from Noon- 1 p.m.\n\n\n\nNeural Networking aims to highlight the scenic beauty and outdoor lifestyle that accompany doing business in West Virginia.\n\n\n\nThis natural recruiting tool\, coupled with the state's rich history in industry and lush natural resource reserves\, positions our Neural Networkers to be the link between our local economy and the innovative work being done at universities across the country.
X-ALT-DESC;FMTTYPE=text/html:<br />\n<strong>Neural Networking Luncheon</strong><br />\nThursday\, Sept. 11<br />\nNoon- 1 p.m.<br />\nCharleston Area Alliance<br />\n1116 Smith Street<br />\n<br />\nThe Charleston Area Alliance is looking for graduates from out-of-state colleges to help with a new program.<br />\n<br />\nNeural Networking is the Alliance&rsquo\;s new entrepreneurial recruitment initiative\, which&nbsp\;set to begin this fall.<br />\n<br />\nThe program&nbsp\;will send Charleston-area professionals with ties to out-of-state colleges pipelines back to campus to interact with students.<br />\n<br />\nThe goal is to&nbsp\;highlight opportunities and incentives available to those&nbsp\;who are willing to relocate and start their ventures in the Kanawha Valley.&nbsp\;&nbsp\;<br />\n<br />\nIf you are a graduate of an out-of-state college and would like to take part in this exciting new program\, join the Alliance for a luncheon this Thursday from Noon- 1 p.m.<br />\n<br />\nNeural Networking&nbsp\;aims to highlight the scenic beauty and outdoor lifestyle that accompany doing business in West Virginia.<br />\n<br />\nThis natural recruiting tool\, coupled with the state&rsquo\;s rich history in industry and lush natural resource reserves\, positions our Neural Networkers to be the link between our local economy and the innovative work being done at universities across the country.<br />\n&nbsp\;
LOCATION:Charleston Area Alliance 1116 Smith Street
UID:e.1499.729
SEQUENCE:3
DTSTAMP:20260421T145917Z
URL:https://business.charlestonareaalliance.org/events/details/neural-networking-luncheon-09-11-2014-729
END:VEVENT

END:VCALENDAR
