BEGIN:VCALENDAR
VERSION:2.0
PRODID:-//ChamberMaster//Event Calendar 2.0//EN
METHOD:PUBLISH
X-PUBLISHED-TTL:P3D
REFRESH-INTERVAL:P3D
CALSCALE:GREGORIAN
BEGIN:VEVENT
DTSTART:20171004T120000Z
DTEND:20171004T133000Z
X-MICROSOFT-CDO-ALLDAYEVENT:FALSE
SUMMARY:National Coffee with a Cop Day
DESCRIPTION:Community members and Charleston Police Department officers will come together for National Coffee with a Cop Day at 8 a.m. Wednesday\, Oct. 4 at the Charleston Area Alliance\, located at 1116 Smith St. \n\nCoffee with a Cop brings police officers and the community members they serve together over coffee to discuss issues and learn more about each other. In a short time\, community members and police officers get to know each other and discover mutual goals for the community they work in and serve. \n\n\n\nThe event gives police officers opportunities\, outside of crisis situations\, to relax and chat with citizens in the community\, while it provides community members access and opportunity for distraction-free conversations with local officers.\n\n\n\nCoffee with a Cop began as a grassroots initiative in March 2011 in Hawthorne\, Calif. to better understand the needs and concerns of community residents. Since then\, Coffee with a Cop's mission of breaking down the barriers between police officers and the citizens they serve has successfully spread to all 50 states and nine countries.\n\n\n\nNational Coffee with a Cop Day is a day dedicated by the Department of Justice's Community Oriented Policing Services Office to encourage communication and positive interactions between law enforcement agencies and the public. The Day began as part of National Community Policing Week in 2016 and now continues each year the first Wednesday in October\, furthering efforts nationwide to bridge the gap between the community and the law.
X-ALT-DESC;FMTTYPE=text/html:<p>Community members and Charleston Police Department officers will come together for National Coffee with a Cop Day at 8 a.m. Wednesday\, Oct. 4&nbsp\;at the Charleston Area Alliance\, located at 1116 Smith St.&nbsp\;</p>\n\n<p>Coffee with a Cop brings police officers and the community members they serve together&ndash\;over coffee&ndash\;to discuss issues and learn more about each&nbsp\;other. In a short time\, community members&nbsp\;and police officers get to know each other and discover mutual goals for the community they work in and serve.&nbsp\;<br />\n<br />\nThe event gives police officers opportunities\, outside of crisis situations\, to relax and chat with citizens in the community\, while it provides community members&nbsp\;access and opportunity for distraction-free conversations with local officers.<br />\n<br />\nCoffee with a Cop began as a grassroots initiative in March 2011 in Hawthorne\, Calif. to&nbsp\;better understand the needs and concerns of community residents. Since then\, Coffee with a Cop&rsquo\;s mission of breaking down the barriers between police officers and the citizens they serve has successfully spread to all 50 states and nine countries.<br />\n<br />\nNational Coffee with a Cop Day is a day dedicated by the Department of Justice&rsquo\;s Community Oriented Policing Services Office to encourage communication and positive interactions between law enforcement agencies and the public. The Day began as part of National Community Policing Week in 2016 and now continues each year the first Wednesday in October\, furthering efforts nationwide to bridge the gap between the community and the law.</p>\n
LOCATION:Charleston Area Alliance 1116 Smith St. Charleston\, WV 25301
UID:e.1499.1963
SEQUENCE:3
DTSTAMP:20260419T140256Z
URL:https://business.charlestonareaalliance.org/events/details/national-coffee-with-a-cop-day-1963
END:VEVENT

END:VCALENDAR
