BEGIN:VCALENDAR
VERSION:2.0
PRODID:-//ChamberMaster//Event Calendar 2.0//EN
METHOD:PUBLISH
X-PUBLISHED-TTL:P3D
REFRESH-INTERVAL:P3D
CALSCALE:GREGORIAN
BEGIN:VEVENT
DTSTART:20130613T213000Z
DTEND:20130613T230000Z
X-MICROSOFT-CDO-ALLDAYEVENT:FALSE
SUMMARY:Meet Parsons New School of Design graduate Happy Hour
DESCRIPTION:Join young professionals at an informal dialogue to talk design\, problem solving and their intersection with the Affordable Care Act.\n\n	 \n\n	The Happy Hour will take place at Little India on June 13 to meet Lauren Slorack - a Parsons School of Design grad on loan to local organization WV FREE. Learn how Lauren is using her design expertise to simplify the insurance enrollment process for West Virginians regarding the new guidelines of the Affordable Care Act. Attendees will also have behind the scenes peeks at other notable problems that have been solved and mediated by the work of a talented team of designers.\n\n	 \n\n	Little India appetizers to be provided and happy hour drink specials.\n\n	 \n\n	Generation Charleston\, the young professionals network of the Charleston Area Alliance\, provides young talent  professionals\, creatives and workers of all trades  opportunities to connect\, engage and make a difference in the Kanawha Valley.\n\n	 \n\n	Join this group's activities to learn how to get connected\, live\, work and play in Charleston\, WV!\n\n	 \n\n	RSVP via the link above. Advance registration is required.\n\n	 \n\n	If you work with an Alliance member business and need assistance locating your password\, email Leigh Anne Strickland\, Director Member Programs and Services. (LStrickland@charlestonareaalliance.org)
X-ALT-DESC;FMTTYPE=text/html:<div>\n	Join young professionals at an informal dialogue to talk design\, problem solving and their intersection with the Affordable Care Act.<br />\n	&nbsp\;</div>\n<div>\n	The Happy Hour will take place at Little India on June 13 to meet Lauren Slorack - a Parsons School of Design grad on loan to local organization WV FREE. Learn how Lauren is using her design expertise to simplify the insurance enrollment process for West Virginians regarding the new guidelines of the Affordable Care Act. Attendees will also have behind the scenes peeks at other notable problems that have been solved and mediated by the work of a talented team of designers.</div>\n<div>\n	&nbsp\;</div>\n<div>\n	Little India appetizers to be provided and happy hour drink specials.</div>\n<div>\n	&nbsp\;</div>\n<div>\n	Generation Charleston\, the young professionals network of the Charleston Area Alliance\, provides young talent&mdash\; professionals\, creatives and workers of all trades&mdash\; opportunities to connect\, engage and make a difference in the Kanawha Valley.</div>\n<div>\n	&nbsp\;</div>\n<div>\n	Join this group&#39\;s activities to learn how to get connected\, live\, work and play in Charleston\, WV!</div>\n<div>\n	&nbsp\;</div>\n<div>\n	RSVP via the link above. Advance registration is required.</div>\n<div>\n	&nbsp\;</div>\n<div>\n	If you work with an Alliance member business and need assistance locating your password\, email Leigh Anne Strickland\, Director Member Programs and Services. (LStrickland@charlestonareaalliance.org)</div>\n
LOCATION:1604 Little India Washington Street
UID:e.1499.646
SEQUENCE:3
DTSTAMP:20260422T090005Z
URL:https://business.charlestonareaalliance.org/events/details/meet-parsons-new-school-of-design-graduate-happy-hour-06-13-2013-646
END:VEVENT

END:VCALENDAR
