BEGIN:VCALENDAR
VERSION:2.0
PRODID:-//ChamberMaster//Event Calendar 2.0//EN
METHOD:PUBLISH
X-PUBLISHED-TTL:P3D
REFRESH-INTERVAL:P3D
CALSCALE:GREGORIAN
BEGIN:VEVENT
DTSTART:20150319T210000Z
DTEND:20150320T000000Z
X-MICROSOFT-CDO-ALLDAYEVENT:FALSE
SUMMARY:March ArtWalk
DESCRIPTION:Downtown Charleston ArtWalk is a free self-guided walking tour of Charleston's shops\, galleries and businesses featuring regional art and performances. \n\n\n\nParticipating shops are located along Quarrier\, Capitol and Lee streets in Downtown Charleston and feature a variety of art   from paintings and sculptures to photography and music. Attendees can stroll along at their own pace\, dip in and out of stores and stop off along the way for a bite to eat at a downtown restaurant.\n\n\n\nThis well-loved family-friendly event takes place from 5 to 8 p.m. and attracts art aficionados as well as folks who just want to get out and try something new.  \n\n\n\nArtWalk is a program of the Charleston Area Alliance.
X-ALT-DESC;FMTTYPE=text/html:<p class="alignLeft      font_7" style="margin: 0px\; padding: 0px\; border: 0px\; outline: 0px\; vertical-align: baseline\; font-stretch: normal\; font-size: 15px\; line-height: 1.4em\; font-family: Spinnaker\, sans-serif\; color: rgb(51\, 51\, 51)\; background-image: initial\; background-attachment: initial\; background-size: initial\; background-origin: initial\; background-clip: initial\; background-position: initial\; background-repeat: initial\;"><span style="font-size:12px\;">Downtown Charleston ArtWalk is a free self-guided walking tour of Charleston&rsquo\;s shops\, galleries and businesses featuring regional art and performances.&nbsp\;<br />\n<br />\nParticipating shops are located along Quarrier\, Capitol and Lee streets in Downtown Charleston and feature a variety of art &ndash\; from paintings and sculptures to photography and music. Attendees can stroll along at their own pace\, dip in and out of stores and stop off along the way for a bite to eat at a downtown restaurant.</span></p>\n\n<p class="alignLeft      font_7" style="margin: 0px\; padding: 0px\; border: 0px\; outline: 0px\; vertical-align: baseline\; font-stretch: normal\; font-size: 15px\; line-height: 1.4em\; font-family: Spinnaker\, sans-serif\; color: rgb(51\, 51\, 51)\; background-image: initial\; background-attachment: initial\; background-size: initial\; background-origin: initial\; background-clip: initial\; background-position: initial\; background-repeat: initial\;"><br />\n<span style="font-size:12px\;">This well-loved family-friendly event takes place from 5 to 8 p.m. and attracts art aficionados as well as folks who just want to get out and try something new. &nbsp\;<br />\n<br />\nArtWalk is a program&nbsp\;of the Charleston Area Alliance.</span></p>\n
LOCATION:Downtown Charleston - please visit the ArtWalk website to see this month's participating venues and maps.
UID:e.1499.756
SEQUENCE:3
DTSTAMP:20260421T065701Z
URL:https://business.charlestonareaalliance.org/events/details/march-artwalk-03-19-2015-756
END:VEVENT

END:VCALENDAR
