BEGIN:VCALENDAR
VERSION:2.0
PRODID:-//ChamberMaster//Event Calendar 2.0//EN
METHOD:PUBLISH
X-PUBLISHED-TTL:P3D
REFRESH-INTERVAL:P3D
CALSCALE:GREGORIAN
BEGIN:VEVENT
DTSTART:20140708T130000Z
DTEND:20140708T210000Z
X-MICROSOFT-CDO-ALLDAYEVENT:FALSE
SUMMARY:Management 101 - Fundamentals of Leadership - July 2014
DESCRIPTION:How do new managers make the transition from being "part of the team" to "leading the team"? \n\n\n\nJoin the Charleston Area Alliance and The Performance Group for a one-day session that will help improve YOUR management skills.\n\n\n\nDuring this one-day class you will be introduce to a variety of management skills and tools that will help you develop a new perspective\, become a more effective leader and most of all get better results.\n\nManagement 101 - Fundamental of Leadership will be held on July 8 from 9 a.m.-5 p.m. at the Charleston Area Alliance.\n\n\n\nIt will be presented by Chuck Stump of The Performance Group. Stump has given over 1\,500 seminars in the areas of leadership\, coaching\, communication\, client care\, and change management.  His trainings draw from over twenty-eight years of hard-learned life lessons and creative ideas to help people change not only the way they think\, but also the way they act\n\n\n\nRegistration is limited to the first 20 people that sign-up. \n\n\n\nHere's just some of what you'll learn in this live\, interactive series:\n\n\n\nSession One   Facts and Friction   Behavioral Styles and Team Dynamics\n\n\n	Discover how to read people and identify their tendencies and "hot buttons"\n	Learn the "magic words" to use when working with others\n	Understand what others expect from you while at work (and play)\n\n\nSession Two   Uhhhhh?   Communicating Effectively\n\n\n	Learn how to improve your ability to give clear\, concise verbal instructions \n	Develop a new vocabulary designed to excite and inspire your audience\n	Participate in a listening survey that will improve your listening skills\n\n\n\nSession Three   Becoming a Great Leader   Lessons from the Legends\n\n \n\n	Identify the responsibilities that come with the role of being a LEADER\n	Discuss the difficulties that can make the transition to leadership challenging\n	Study leaders from the past and learn what habits made them effective\n\n\n\nSession Four   Do it NOW! - The Power of Goals and Time Management\n\n \n\n	Overcome procrastination to create momentum and better results\n	Understand where time goes and why we feel so bad when we don't use it properly\n	Learn how to delegate so you can multiply your efforts.\n\n\n\nSession Five   Coaching   Helping Others Reach their Potential\n\n \n\n	Discover the characteristics that will make you a great coach\n	Learn why employees want coaching and feedback on a regular basis\n	Master a proven model that will allow you to coach without causing resentment\n\n\n\nSession Six   Synergy   Keys to Managing Change\n\n \n\n	Learn first-hand how groups function in the face of change\n	Learn the importance of "ownership" in the change process\;\n	Witness the key behaviors that turn "change" into a positive experience
X-ALT-DESC;FMTTYPE=text/html:<p><br />\nHow do new managers make the transition from being &ldquo\;part of the team&rdquo\; to &ldquo\;leading the team&rdquo\;?&nbsp\;<br />\n<br />\nJoin the Charleston Area Alliance and The Performance Group for a one-day session that will help improve YOUR management skills.<br />\n<br />\nDuring this one-day class you will be introduce to a variety of management skills and tools that will help you develop a new perspective\, become a more effective leader and most of all&hellip\;get better results.</p>\n\n<p>Management 101 - Fundamental of Leadership will be held on July 8 from 9 a.m.-5 p.m. at the Charleston Area Alliance.<br />\n<br />\nIt will be presented by Chuck Stump of The Performance Group. Stump has given over 1\,500 seminars in the areas of leadership\, coaching\, communication\, client care\, and change management.&nbsp\; His trainings draw from over twenty-eight years of hard-learned life lessons and creative ideas to help people change not only the way they think\, but also the way they act<br />\n<br />\n<u><strong><span style="color:#FF0000\;">Registration is limited to the first 20 people that sign-up</span>. </strong></u><br />\n<br />\nHere&rsquo\;s just some of what you&rsquo\;ll learn in this live\, interactive series:<br />\n<br />\n<strong>Session One &ndash\; Facts and Friction &ndash\; Behavioral Styles and Team Dynamics</strong></p>\n\n<ul>\n	<li>Discover how to read people and identify their tendencies and &ldquo\;hot buttons&rdquo\;</li>\n	<li>Learn the &ldquo\;magic words&rdquo\; to use when working with others</li>\n	<li>Understand what others expect from you while at work (and play)</li>\n</ul>\n\n<p><strong>Session Two &ndash\; Uhhhhh? &ndash\; Communicating Effectively</strong></p>\n\n<ul>\n	<li>Learn how to improve your ability to give clear\, concise verbal instructions&nbsp\;</li>\n	<li>Develop a new vocabulary designed to excite and inspire your audience</li>\n	<li>Participate in a listening survey that will improve your listening skills</li>\n</ul>\n<br />\n<span style="font-size:14px\;"><strong>Session Three &ndash\; Becoming a Great Leader &ndash\; Lessons from the Legends</strong></span><br />\n&nbsp\;\n<ul>\n	<li>Identify the responsibilities that come with the role of being a LEADER</li>\n	<li>Discuss the difficulties that can make the transition to leadership challenging</li>\n	<li>Study leaders from the past and learn what habits made them effective</li>\n</ul>\n<br />\n<span style="font-size:14px\;"><strong>Session Four &ndash\; Do it NOW! - The Power of Goals and Time Management</strong></span><br />\n&nbsp\;\n<ul>\n	<li>Overcome procrastination to create momentum and better results</li>\n	<li>Understand where time goes and why we feel so bad when we don&rsquo\;t use it properly</li>\n	<li>Learn how to delegate so you can multiply your efforts.</li>\n</ul>\n<br />\n<span style="font-size:14px\;"><strong>Session Five &ndash\; Coaching &ndash\; Helping Others Reach their Potential</strong></span><br />\n&nbsp\;\n<ul>\n	<li>Discover the characteristics that will make you a great coach</li>\n	<li>Learn why employees want coaching and feedback on a regular basis</li>\n	<li>Master a proven model that will allow you to coach without causing resentment</li>\n</ul>\n<br />\n<span style="font-size:14px\;"><strong>Session Six &ndash\; Synergy &ndash\; Keys to Managing Change</strong></span><br />\n&nbsp\;\n<ul>\n	<li>Learn first-hand how groups function in the face of change</li>\n	<li>Learn the importance of &ldquo\;ownership&rdquo\; in the change process\;</li>\n	<li>Witness the key behaviors that turn &ldquo\;change&rdquo\; into a positive experience</li>\n</ul>\n
LOCATION:Charleston Area Alliance 1116 Smith Street Charleston\, WV 25301
UID:e.1499.712
SEQUENCE:3
DTSTAMP:20260421T165707Z
URL:https://business.charlestonareaalliance.org/events/details/management-101-fundamentals-of-leadership-july-2014-07-08-2014-712
END:VEVENT

END:VCALENDAR
