BEGIN:VCALENDAR
VERSION:2.0
PRODID:-//ChamberMaster//Event Calendar 2.0//EN
METHOD:PUBLISH
X-PUBLISHED-TTL:P3D
REFRESH-INTERVAL:P3D
CALSCALE:GREGORIAN
BEGIN:VEVENT
DTSTART:20160615T160000Z
DTEND:20160615T171500Z
X-MICROSOFT-CDO-ALLDAYEVENT:FALSE
SUMMARY:Lunch & Learn - New FLSA Overtime Exemption Rules
DESCRIPTION:Register now for the Charleston Area Alliance  'Lunch & Learn - New FLSA Overtime Exemption Rules' on Wednesday\, June 15 from 12:00 - 1:15 p.m.\n\n\n\nEric Kinder\, Spilman Thomas & Battle\, PLLC Member\, will discuss the recent U.S. Department of Labor (DOL) final rule that will amend regulations defining which executive\, administrative and professional workers are exempt from overtime pay under the Fair Labor Standards Act (FLSA). \n\n\n\nEric's primary areas of practice are labor and employment law with an emphasis on wage and hour\, employee benefits\, ERISA litigation\, technology and trade secrets.  He has been recognized by Chambers USA: America's Leading Lawyers for Business for Labor & Employment.\n\n\n\nWith a broad new class of workers becoming eligible for overtime under the DOL ruling\, many businesses will be impacted.  Employers will have various options to consider for compliance and this presentation will help you prepare for the coming changes. \n\n\n\nThe event will be held at the Charleston Area Alliance\, 1116 Smith Street\, Charleston and a box lunch is included with the $15 registration fee for Alliance members and $20 registration fee for future members. \n\n\n\nSeating is limited\, please register now to reserve your space.
X-ALT-DESC;FMTTYPE=text/html:Register now for the Charleston Area Alliance&nbsp\;&nbsp\;&#39\;Lunch &amp\; Learn&nbsp\;- New FLSA Overtime Exemption&nbsp\;Rules&#39\; on Wednesday\, June 15 from 12:00 - 1:15 p.m.<br />\n<br />\nEric Kinder\, Spilman Thomas &amp\; Battle\, PLLC Member\, will&nbsp\;discuss the recent U.S. Department of Labor (DOL) final rule that will amend regulations defining which executive\, administrative and professional workers are exempt from overtime pay under the Fair Labor Standards Act (FLSA).&nbsp\;<br />\n<br />\nEric&#39\;s primary areas of practice are labor and employment law with an emphasis on wage and hour\, employee benefits\, ERISA litigation\, technology and trade secrets.&nbsp\; He has been recognized by <em>Chambers USA: America&#39\;s Leading Lawyers for Business</em> for Labor &amp\; Employment.<br />\n<br />\nWith a broad new class of workers becoming eligible for overtime under the DOL ruling\, many&nbsp\;businesses will be impacted.&nbsp\; Employers will have various options to consider for compliance and&nbsp\;this presentation will&nbsp\;help&nbsp\;you prepare for the coming changes.&nbsp\;<br />\n<br />\nThe&nbsp\;event will be held at the Charleston Area Alliance\,&nbsp\;1116 Smith Street\, Charleston and a box lunch is included&nbsp\;with the $15 registration fee for Alliance members and $20 registration fee for future members.&nbsp\;<br />\n<br />\nSeating is limited\, please register now&nbsp\;to reserve your space.<br />\n<br />\n&nbsp\;
LOCATION:Charleston Area Alliance 1116 Smith Street Charleston\, WV 25301
UID:e.1499.1865
SEQUENCE:3
DTSTAMP:20260420T105936Z
URL:https://business.charlestonareaalliance.org/events/details/lunch-learn-new-flsa-overtime-exemption-rules-06-15-2016-1865
END:VEVENT

END:VCALENDAR
