BEGIN:VCALENDAR
VERSION:2.0
PRODID:-//ChamberMaster//Event Calendar 2.0//EN
METHOD:PUBLISH
X-PUBLISHED-TTL:P3D
REFRESH-INTERVAL:P3D
CALSCALE:GREGORIAN
BEGIN:VEVENT
DTSTART:20161109T170000Z
DTEND:20161109T180000Z
X-MICROSOFT-CDO-ALLDAYEVENT:FALSE
SUMMARY:Lunch & Learn - Foreign Exchange & Exporting
DESCRIPTION:Register now for the Charleston Area Alliance  'Lunch & Learn - Foreign Exchange and Exporting' on Wednesday\, November 9 from 12 - 1 pm presented by Fifth Third Bank. \n\n\n\nAttendees will explore international business growth opportunities and tools for success. \n\n\n\nPanelists include: \n\n	Caitlin Ashley of the West Virginia Development Office's International Trade Department\;\n	Leslie Drake of the US Department of Commerce WV Export Assistance Center\; \n	Leo Lopez of the US Small Business Administration\; and \n	Kim Zwier of Fifth Third Bank.\n\nThe free event will be held at the Charleston Area Alliance\, 1116 Smith Street\, Charleston. A box lunch is included with registration. \n\n\n\nSeating is limited\, please register now to reserve your space.
X-ALT-DESC;FMTTYPE=text/html:<br />\nRegister now for the Charleston Area Alliance&nbsp\;&nbsp\;&#39\;Lunch &amp\; Learn&nbsp\;- Foreign Exchange and Exporting&#39\; on Wednesday\, November 9 from 12 - 1 pm presented by Fifth Third Bank.&nbsp\;<br />\n<br />\nAttendees will explore international business growth opportunities and tools for success.&nbsp\;<br />\n<br />\nPanelists include:&nbsp\;\n<ul>\n	<li>Caitlin Ashley of the West Virginia Development Office&#39\;s International Trade Department\;</li>\n	<li>Leslie Drake of the US Department of Commerce WV Export Assistance Center\;&nbsp\;</li>\n	<li>Leo Lopez of the US Small Business Administration\; and&nbsp\;</li>\n	<li>Kim Zwier of Fifth Third Bank.</li>\n</ul>\nThe&nbsp\;free event will be held at the Charleston Area Alliance\,&nbsp\;1116 Smith Street\, Charleston. A box lunch is included with registration.&nbsp\;<br />\n<br />\nSeating is limited\, please register now&nbsp\;to reserve your space.<br />\n<br />\n&nbsp\;
LOCATION:Charleston Area Alliance 1116 Smith Street Charleston\, WV 25301
UID:e.1499.1882
SEQUENCE:3
DTSTAMP:20260420T052346Z
URL:https://business.charlestonareaalliance.org/events/details/lunch-learn-foreign-exchange-exporting-1882
END:VEVENT

END:VCALENDAR
