BEGIN:VCALENDAR
VERSION:2.0
PRODID:-//ChamberMaster//Event Calendar 2.0//EN
METHOD:PUBLISH
X-PUBLISHED-TTL:P3D
REFRESH-INTERVAL:P3D
CALSCALE:GREGORIAN
BEGIN:VEVENT
DTSTART:20161206T180000Z
DTEND:20161206T190000Z
X-MICROSOFT-CDO-ALLDAYEVENT:FALSE
SUMMARY:Lunch & Learn - Fifth Third Bank presents Succession Planning
DESCRIPTION:Register now for the Charleston Area Alliance 'Lunch & Learn - Succession Planning' Tuesday\, December 6 from 12 - 1 p.m.\, presented by Fifth Third Bank. \n\n\n\nOur co-presenters Kim Zwier and David Higgins will take you through seven different scenarios on how to do succession planning under various circumstances.  There is no "one way" to provide for a change in ownership but if there is no succession planning then "bad things" can happen.  They will discuss buy sell agreements\, outright sales\, ESOPs\, key employee plans\, charitable stock bailouts and the like.  Time will be reserved for questions.\n\n\n\nThe free event will be held at the Charleston Area Alliance\, 1116 Smith Street\, Charleston. A box lunch is included with registration. \n\n\n\nSeating is limited\, please register now to reserve your space.
X-ALT-DESC;FMTTYPE=text/html:<span style="color: rgb(51\, 51\, 51)\; font-family: sans-serif\, Arial\, Verdana\,\;" trebuchet="">Register now for the Charleston Area Alliance &#39\;Lunch &amp\; Learn&nbsp\;- Succession Planning&#39\; Tuesday\, December 6 from 12 - 1 p.m.\, presented by Fifth Third Bank.&nbsp\;</span><br style="color: rgb(51\, 51\, 51)\; font-family: sans-serif\, Arial\, Verdana\,\;" trebuchet="" />\n<br style="color: rgb(51\, 51\, 51)\; font-family: sans-serif\, Arial\, Verdana\,\;" trebuchet="" />\n<span style="color: rgb(51\, 51\, 51)\; font-family: sans-serif\, Arial\, Verdana\,\;" trebuchet="">Our co-presenters Kim Zwier and David Higgins will take you through seven different scenarios on how to do succession planning under&nbsp\;various circumstances.&nbsp\; There is no &ldquo\;one way&rdquo\; to provide for a change in ownership but if there is no succession planning then &ldquo\;bad things&rdquo\; can happen.&nbsp\; They will discuss buy sell agreements\, outright sales\, ESOPs\, key employee plans\, charitable stock bailouts and the like.&nbsp\; Time will be reserved for questions.</span><br />\n<br style="color: rgb(51\, 51\, 51)\; font-family: sans-serif\, Arial\, Verdana\,\;" trebuchet="" />\n<span style="color: rgb(51\, 51\, 51)\; font-family: sans-serif\, Arial\, Verdana\,\;" trebuchet="">The&nbsp\;free event will be held at the Charleston Area Alliance\,&nbsp\;1116 Smith Street\, Charleston. A box lunch is included with registration.&nbsp\;</span><br style="color: rgb(51\, 51\, 51)\; font-family: sans-serif\, Arial\, Verdana\,\;" trebuchet="" />\n<br style="color: rgb(51\, 51\, 51)\; font-family: sans-serif\, Arial\, Verdana\,\;" trebuchet="" />\n<span style="color: rgb(51\, 51\, 51)\; font-family: sans-serif\, Arial\, Verdana\,\;" trebuchet="">Seating is limited\, please register now&nbsp\;to reserve your space.</span>
LOCATION:Charleston Area Alliance 1116 Smith Street Charleston\, WV 25301
UID:e.1499.1886
SEQUENCE:3
DTSTAMP:20260420T025158Z
URL:https://business.charlestonareaalliance.org/events/details/lunch-learn-fifth-third-bank-presents-succession-planning-1886
END:VEVENT

END:VCALENDAR
