BEGIN:VCALENDAR
VERSION:2.0
PRODID:-//ChamberMaster//Event Calendar 2.0//EN
METHOD:PUBLISH
X-PUBLISHED-TTL:P3D
REFRESH-INTERVAL:P3D
CALSCALE:GREGORIAN
BEGIN:VEVENT
DTSTART:20160914T220000Z
DTEND:20160915T010000Z
X-MICROSOFT-CDO-ALLDAYEVENT:FALSE
SUMMARY:Loft Walk - September 2016
DESCRIPTION:Join Generation Charleston for the annual Loft Walk on Wednesday\, Sept. 14. During a guided tour through some of Charleston's newly renovated and re-imagined lofts\, guests will see firsthand why more and more people are choosing downtown living.  \n\n\n\nLoft Walk starts at Recovery Sports Grill at 600 Kanawha Blvd. East.. From there\, guests can walk or ride a trolley to the various properties.\n\n\n\nThe event is free to attend\, but RSVP is required.
X-ALT-DESC;FMTTYPE=text/html:Join Generation Charleston for the annual Loft Walk on Wednesday\, Sept. 14. During a guided tour through some of Charleston&rsquo\;s newly renovated and re-imagined lofts\, guests will see firsthand why more and more people are choosing downtown living. &nbsp\;<br />\n<br />\nLoft Walk starts at Recovery Sports Grill at 600 Kanawha Blvd. East.. From there\, guests can walk or ride a trolley to the various properties.<br />\n<br />\nThe event is free to attend\, but RSVP is required.<br />\n<br />\n&nbsp\;
LOCATION:Recovery Sports Grill 600 Kanawha Blvd. East
UID:e.1499.1873
SEQUENCE:3
DTSTAMP:20260420T064038Z
URL:https://business.charlestonareaalliance.org/events/details/loft-walk-september-2016-09-14-2016-1873
END:VEVENT

END:VCALENDAR
