BEGIN:VCALENDAR
VERSION:2.0
PRODID:-//ChamberMaster//Event Calendar 2.0//EN
METHOD:PUBLISH
X-PUBLISHED-TTL:P3D
REFRESH-INTERVAL:P3D
CALSCALE:GREGORIAN
BEGIN:VEVENT
DTSTART:20150916T223000Z
DTEND:20150917T010000Z
X-MICROSOFT-CDO-ALLDAYEVENT:FALSE
SUMMARY:Loft Walk - September 2015
DESCRIPTION:Join Generation Charleston for the annual Loft Walk on Wednesday\, Sept. 16. During a guided tour through some of Charleston's newly renovated and re-imagined lofts\, guests will see firsthand why more and more people are choosing downtown living.  \n\n\n\nLoft Walk starts at Recovery Sports Grill at 600 Kanawha Blvd. East.. From there\, guests can walk or ride a trolley to the various properties.\n\n\n\nThe event is free to attend\, but RSVP is required.
X-ALT-DESC;FMTTYPE=text/html:Join Generation Charleston for the annual Loft Walk on Wednesday\, Sept. 16. During a guided tour through some of Charleston&rsquo\;s newly renovated and re-imagined lofts\, guests will see firsthand why more and more people are choosing downtown living. &nbsp\;<br />\n<br />\nLoft Walk starts at Recovery Sports Grill at 600 Kanawha Blvd. East.. From there\, guests can walk or ride a trolley to the various properties.<br />\n<br />\nThe event is free to attend\, but RSVP is required.<br />\n<br />\n&nbsp\;
LOCATION:Recovery Sports Grille 600 Kanawha Blvd. East
UID:e.1499.805
SEQUENCE:3
DTSTAMP:20260421T002449Z
URL:https://business.charlestonareaalliance.org/events/details/loft-walk-september-2015-09-16-2015-805
END:VEVENT

END:VCALENDAR
