BEGIN:VCALENDAR
VERSION:2.0
PRODID:-//ChamberMaster//Event Calendar 2.0//EN
METHOD:PUBLISH
X-PUBLISHED-TTL:P3D
REFRESH-INTERVAL:P3D
CALSCALE:GREGORIAN
BEGIN:VEVENT
DTSTART:20171017T213000Z
DTEND:20171017T233000Z
X-MICROSOFT-CDO-ALLDAYEVENT:FALSE
SUMMARY:Loft Walk
DESCRIPTION:Join Generation Charleston for its annual Loft Walk. The self-guided tour will highlight the uniqueness of residential units in downtown Charleston. The tour offers something for everyone - from young professionals and empty nesters looking to live downtown\, as well as those interested in historic preservation\, interior design and urban living.\n\n\n\nStart the tour at Recovery Sports Grill and walk or board a KRT Trolley to visit participating properties. Loft Walk stops include:\n\n	1031 Quarrier St.\, Charleston\, WV 25301 The Atlas Building\n	37 Downing St\, Charleston\, WV 25301\n	1108 Kanawha Blvd. E.\, Unit 404\, Charleston\, WV 25301\n	814 Virginia St.\, Charleston\, WV 25301 The Virginian\n	601 Morris St.\, Charleston\, WV 25301 Charmco Building             \n\nClick here for a Google Map of Loft Walk participating properties. \n\n\n\nLoft Walk is a Charleston Area Alliance Urban Living Week event. Urban Living Week highlights the advantages of living\, working and playing in downtown Charleston. Additional Urban Living Week events include Space Walk Wednesday\, Oct. 18 and ArtWalk Thursday\, Oct. 19.
X-ALT-DESC;FMTTYPE=text/html:<br />\nJoin Generation Charleston for its annual Loft Walk. The self-guided tour will highlight the uniqueness of residential units in downtown Charleston. The tour offers something for everyone - from young professionals and empty nesters looking to live downtown\, as well as those interested in historic preservation\, interior design and urban living.<br />\n<br />\nStart the tour at Recovery Sports Grill and walk or board a KRT Trolley to visit participating properties. Loft Walk stops include:\n<ul>\n	<li>1031 Quarrier St.\, Charleston\, WV&nbsp\;25301 The Atlas Building</li>\n	<li>37 Downing St\, Charleston\, WV 25301</li>\n	<li>1108 Kanawha Blvd. E.\, Unit 404\,&nbsp\;Charleston\, WV 25301</li>\n	<li>814 Virginia St.\, Charleston\, WV 25301 The Virginian</li>\n	<li>601 Morris St.\, Charleston\, WV 25301 Charmco Building&nbsp\; &nbsp\; &nbsp\; &nbsp\; &nbsp\; &nbsp\; &nbsp\;</li>\n</ul>\n<a href="https://drive.google.com/open?id=1w_BHO3fqVOyJp471YAUKnWYncBI&amp\;usp=sharing" target="_blank">Click here</a> for a Google Map of Loft Walk participating properties.&nbsp\;<br />\n<br />\nLoft Walk is a Charleston Area Alliance Urban Living Week event. Urban Living Week highlights the advantages of living\, working and playing in downtown Charleston. Additional Urban Living Week events include <a href="http://charlestonareaalliance.org/events/details/space-walk-1968" target="_blank">Space Walk</a> Wednesday\, Oct. 18 and <a href="http://charlestonareaalliance.org/events/details/downtown-charleston-artwalk-1910" target="_blank">ArtWalk</a> Thursday\, Oct. 19.
LOCATION:Downtown Charleston Start at Recover Sports Grill and walk or board a KRT Trolley to visit participating properties.
UID:e.1499.1973
SEQUENCE:3
DTSTAMP:20260419T140036Z
URL:https://business.charlestonareaalliance.org/events/details/loft-walk-1973
END:VEVENT

END:VCALENDAR
