BEGIN:VCALENDAR
VERSION:2.0
PRODID:-//ChamberMaster//Event Calendar 2.0//EN
METHOD:PUBLISH
X-PUBLISHED-TTL:P3D
REFRESH-INTERVAL:P3D
CALSCALE:GREGORIAN
BEGIN:VEVENT
DTSTART:20131023T190000Z
DTEND:20131024T003000Z
X-MICROSOFT-CDO-ALLDAYEVENT:FALSE
SUMMARY:Local Business Summit
DESCRIPTION:Attend this FREE business event presented by SuperMedia . You'll learn business-building strategies\, tips and techniques from your community leaders\, all geared toward increasing your productivity and business success.\n\n	\n\n	\n		AGENDA\n	\n		Session 1: Panel Discussion\n	\n		An interactive discussion about achieving success.\n	\n		Session 2: Get Found and Be Chosen\n	\n		Barry Moltz teaches you how to increase your sales by helping\n	\n		customers find you.\n	\n		Session 3: Social Media for Small Business Success Workshop\n	\n		Learn the basics of using social media.\n	\n		Session 4: Yahoo! & SuperMedia present SEO & SEM\n	\n		The dynamic duo of search engine success.\n\n		 \n\n\n\nPanelists include:\n\n	\n		Faith Murphy\, Yahoo!\n	\n		Sheldon Bernstein\, SuperMedia\n	\n		Cullen Naumoff\, Charleston Area Alliance\n	\n		Brian Canterbury\, Boost: Small Business\n	\n		Dafna Michaelson\, The Journey Institute\n	\n		Barry Moltz\, Radio Host\, Entrepreneur & Best-Selling Author\n\nRegister online here: http://SuperMedia.com/CharlestonSummit
X-ALT-DESC;FMTTYPE=text/html:<div>\n	Attend this FREE business event presented by SuperMedia&reg\;. You&rsquo\;ll learn business-building strategies\, tips and techniques from your community leaders\, all geared toward increasing your productivity and business success.<br />\n	<br />\n	<div>\n		<strong>AGENDA</strong></div>\n	<div>\n		<strong>Session 1</strong>: Panel Discussion</div>\n	<div>\n		An interactive discussion about achieving success.</div>\n	<div>\n		<strong>Session 2</strong>: Get Found and Be Chosen</div>\n	<div>\n		Barry Moltz teaches you how to increase your sales by helping</div>\n	<div>\n		customers find you.</div>\n	<div>\n		<strong>Session 3:</strong> Social Media for Small Business Success Workshop</div>\n	<div>\n		Learn the basics of using social media.</div>\n	<div>\n		<strong>Session 4:</strong> Yahoo! &amp\; SuperMedia present SEO &amp\; SEM</div>\n	<div>\n		The dynamic duo of search engine success.<br />\n		&nbsp\;</div>\n</div>\n<br />\nPanelists include:\n<ul>\n	<li>\n		Faith Murphy\, Yahoo!</li>\n	<li>\n		Sheldon Bernstein\, SuperMedia</li>\n	<li>\n		Cullen Naumoff\, Charleston Area Alliance</li>\n	<li>\n		Brian Canterbury\, Boost: Small Business</li>\n	<li>\n		Dafna Michaelson\, The Journey Institute</li>\n	<li>\n		Barry Moltz\, Radio Host\, Entrepreneur &amp\; Best-Selling Author</li>\n</ul>\nRegister online here:&nbsp\;http://SuperMedia.com/CharlestonSummit
LOCATION:Charleston Civic Center 200 Civic Center Drive Charleston\, WV 25301
UID:e.1499.670
SEQUENCE:3
DTSTAMP:20260422T035817Z
URL:https://business.charlestonareaalliance.org/events/details/local-business-summit-10-23-2013-670
END:VEVENT

END:VCALENDAR
