BEGIN:VCALENDAR
VERSION:2.0
PRODID:-//ChamberMaster//Event Calendar 2.0//EN
METHOD:PUBLISH
X-PUBLISHED-TTL:P3D
REFRESH-INTERVAL:P3D
CALSCALE:GREGORIAN
BEGIN:VEVENT
DTSTART:20140219T164500Z
DTEND:20140219T180000Z
X-MICROSOFT-CDO-ALLDAYEVENT:FALSE
SUMMARY:Live Well Charlie West Lunch and Learn February 2014
DESCRIPTION:Live Well Charlie West Lunch and Learn\n\nWednesday\, Feb. 19\n\n11:45 a.m.-1 p.m.\n\nCharleston Area Alliance\n\n1116 Smith Street\n\n\n\nAre you looking to extend your Live Well Charlie West workplace wellness campaign throughout the year?\n\n\n\nWith our partners at the Kanawha Coalition for Community Health Improvement (KCCHI)\, the Charleston Area Alliance is here to help you implement a long-term and low cost workplace wellness solution.\n\n\n\nLearn more at a special Live Well Charlie West lunch and learn on Feb. 19 at the Alliance.\n\n\n\nThe event will feature an overview of KCCHI's new Healthy Choices E-Zine\, which is an online toolkit that outlines local and regional workplace wellness resources and assists in prioritizing costs and impact.  \n\n\n\nJudy Crabtree\, the lead designer of the e-zine\, will deliver an overview of the project and will answer answer questions.\n\n\n\nRegistration is $5 to attend. Food and beverages will be provided.  \n\n\n\nFor more information\, please contact Cullen Naumoff by e-mail at CNaumoff@charlestonareaalliance.org or call 304-340-4253.\n\n\n\nThis is your opportunity to make every month Live Well Charlie West at your workplace.
X-ALT-DESC;FMTTYPE=text/html:<br />\n<strong>Live Well Charlie West Lunch and Learn</strong><br />\nWednesday\, Feb. 19<br />\n11:45 a.m.-1 p.m.<br />\nCharleston Area Alliance<br />\n1116 Smith Street<br />\n<br />\nAre you looking to extend your Live Well Charlie West workplace wellness campaign throughout the year?<br />\n<br />\nWith our partners at the Kanawha Coalition for Community Health Improvement (KCCHI)\, the Charleston Area Alliance is here to help you implement a long-term and low cost workplace wellness solution.<br />\n<br />\nLearn more at a special Live Well Charlie West lunch and learn on Feb. 19 at the Alliance.<br />\n<br />\nThe event will feature an overview of KCCHI&rsquo\;s new Healthy Choices E-Zine\, which is an online toolkit that outlines local and regional workplace wellness resources and assists in prioritizing costs and impact. &nbsp\;<br />\n<br />\nJudy Crabtree\, the lead designer of the e-zine\, will deliver an overview of the project and will answer answer questions.<br />\n<br />\nRegistration is $5 to attend. Food and beverages will be provided. &nbsp\;<br />\n<br />\nFor more information\, please contact Cullen Naumoff by e-mail at CNaumoff@charlestonareaalliance.org or call 304-340-4253.<br />\n<br />\nThis is your opportunity to make every month Live Well Charlie West at your workplace.
LOCATION:Charleston Area Alliance 1116 Smith Street
UID:e.1499.689
SEQUENCE:3
DTSTAMP:20260421T225122Z
URL:https://business.charlestonareaalliance.org/events/details/live-well-charlie-west-lunch-and-learn-february-2014-02-19-2014-689
END:VEVENT

END:VCALENDAR
