BEGIN:VCALENDAR
VERSION:2.0
PRODID:-//ChamberMaster//Event Calendar 2.0//EN
METHOD:PUBLISH
X-PUBLISHED-TTL:P3D
REFRESH-INTERVAL:P3D
CALSCALE:GREGORIAN
BEGIN:VEVENT
DTSTART:20140820T133000Z
DTEND:20140820T143000Z
X-MICROSOFT-CDO-ALLDAYEVENT:FALSE
SUMMARY:Leveraging Your Membership - August 20
DESCRIPTION:When you use your Charleston Area Alliance membership to it's fullest\, it can greatly enhance your business opportunities and return.\n\n\n\nJoin the Alliance staff for a fun and informative hour long breakfast about how to maximize the use of your membership to gain the most from your time and membership dollars.\n\nThe event will be held on Wednesday\, Aug. 20 from 8:30-9:30 a.m. at the Alliance.\n\nThe Alliance offers numerous opportunities to its members. Learn all the benefits to being an Alliance member on Aug. 20.
X-ALT-DESC;FMTTYPE=text/html:<p>When you use your Charleston Area Alliance membership to it&rsquo\;s fullest\, it can greatly enhance your business opportunities and return.<br />\n<br />\nJoin the Alliance staff for a fun and informative hour long breakfast about how to maximize the use of your membership to gain the most from your time and membership dollars.</p>\n\n<p>The event will be held on Wednesday\, Aug. 20 from 8:30-9:30 a.m. at the Alliance.</p>\n\n<p>The Alliance offers numerous opportunities to its members. Learn all the benefits to being an Alliance member on Aug. 20.</p>\n\n<p><br />\n&nbsp\;</p>\n
LOCATION:Charleston Area Alliance 1116 Smith Street
UID:e.1499.718
SEQUENCE:3
DTSTAMP:20260421T164853Z
URL:https://business.charlestonareaalliance.org/events/details/leveraging-your-membership-august-20-08-20-2014-718
END:VEVENT

END:VCALENDAR
