BEGIN:VCALENDAR
VERSION:2.0
PRODID:-//ChamberMaster//Event Calendar 2.0//EN
METHOD:PUBLISH
X-PUBLISHED-TTL:P3D
REFRESH-INTERVAL:P3D
CALSCALE:GREGORIAN
BEGIN:VEVENT
DTSTART:20150728T213000Z
DTEND:20150729T000500Z
X-MICROSOFT-CDO-ALLDAYEVENT:FALSE
SUMMARY:Lead the Change - Hosted by Generation Charleston
DESCRIPTION:If you are passionate about sustaining a thriving Wild and Wonderful West Virginia for generations to come\, we need YOUR vision\, perspective\, and expertise to be a part of the conversation and action.\n\n\n\nJoin Generation Charleston at 5:30 p.m. Tuesday\, July 28 at the Charleston Area Alliance for an input session to identify potential community solutions to brain drain.\n\n\n\nLead the Change is a campaign through Generation West Virginia to get members of each regional chapter to give its members the ability to talk about the issues their area faces in retaining young talent. They then give them the opportunity to discuss taking these ideas and putting them into action.\n\n\n\nWe ALL have a stake in choosing policies and initiatives to help keep the next generation here.  We see this as an opportunity to unite our siloed efforts to make meaningful progress on an issue that impacts so many diverse fields and whose solution is in collaborating across disciplines.\n\n\n\nThe Generation West Virginia Lead the Change Campaign is a statewide initiative to empower our state's young professionals and leaders to identify and lead the changes needed to make West Virginia a destination for the next generation to live\, work\, and play. Generation Charleston is one of 13 Generation chapters around the state who are leading community action planning sessions convening people of all generations\, backgrounds\, and professions to move from talking about the need to attract\, retain\, and advance the next generation of leaders and professionals to taking action.
X-ALT-DESC;FMTTYPE=text/html:If you are passionate about sustaining a thriving Wild and Wonderful West Virginia&nbsp\;for generations to come\, we need YOUR vision\, perspective\, and expertise to be a part of the conversation and action.<br />\n<br />\nJoin Generation Charleston at 5:30 p.m.&nbsp\;Tuesday\, July 28&nbsp\;at the Charleston Area Alliance for an input session to identify potential community solutions to brain drain.<br />\n<br />\nLead the Change is a campaign through Generation West Virginia to get members of each regional chapter to give its members the ability to talk about the issues their area faces in retaining young talent. They then give them the opportunity to discuss taking these ideas and putting them into action.<br />\n<br />\nWe ALL have a stake in choosing policies and initiatives to help keep the next generation here.&nbsp\; We see this as an opportunity to unite our siloed efforts to make meaningful progress on an issue that impacts so many diverse fields and whose solution is in collaborating across disciplines.<br />\n<br />\nThe Generation West Virginia <a href="http://generationwestvirginia.net/lead-the-change/" target="_blank">Lead the Change Campaign&nbsp\;</a>is a statewide initiative to empower our state&#39\;s young professionals and leaders to identify and lead the changes needed to make West Virginia&nbsp\;a destination for the next generation to live\, work\, and play. Generation&nbsp\;Charleston is one of 13&nbsp\;Generation chapters&nbsp\;around the state&nbsp\;who&nbsp\;are&nbsp\;leading community action planning sessions convening people of all generations\, backgrounds\, and professions to move from&nbsp\;talking&nbsp\;about the need to attract\, retain\, and advance the next generation of leaders and professionals to&nbsp\;taking&nbsp\;action.
LOCATION:The Charleston Area Alliance 1116 Smith Street Charleston\, WV 25301
UID:e.1499.798
SEQUENCE:3
DTSTAMP:20260421T030555Z
URL:https://business.charlestonareaalliance.org/events/details/lead-the-change-hosted-by-generation-charleston-07-28-2015-798
END:VEVENT

END:VCALENDAR
