BEGIN:VCALENDAR
VERSION:2.0
PRODID:-//ChamberMaster//Event Calendar 2.0//EN
METHOD:PUBLISH
X-PUBLISHED-TTL:P3D
REFRESH-INTERVAL:P3D
CALSCALE:GREGORIAN
BEGIN:VEVENT
DTSTART:20130116T223000Z
DTEND:20130117T000000Z
X-MICROSOFT-CDO-ALLDAYEVENT:FALSE
SUMMARY:Join us in Italy! Informational Meeting and Details for 2013
DESCRIPTION:The Charleston Area Alliance invites you to an informational reception Jan. 16 at 5:30 p.m. to learn about the upcoming business mission/cultural tour of Northern Italy.  \n\n\n\nOur 2013 destination is northern Italy\, where visits include the city of Varese\, the northern Italian lake region\, Milan\, Parma\, Florence (with a touch of Tuscany) and Venice\, May 7 through 17 .\n\n\n\nClick HEREfor the trip brochure.\n\n\n\nWhether you are interested in working with the Alliance staff to create a personalized business itinerary\, or simply wish to learn more about these culturally rich regions\, you will find this trip exceptional.\n\n\n\nIt's a great trip for businesses that want to explore exporting\, importing\, joint ventures or other business activities. Work with Alliance staff now so very specialized meetings can be set up to meet your needs.\n\n\n\nPlease join fellow Charleston Area Alliance members and friends as we journey together to Italy this spring. \n\n\n\nThe reception will be held at the National Travel office located at 164 Court Street (Shonk Plaza) across from Town Center Mall.\n\n\n\nIf you'd like to attend the reception\, please RSVP via the registration link above.
X-ALT-DESC;FMTTYPE=text/html:<span style="font-size: 12pt\;"><span style="font-family: times new roman\, serif\;">The Charleston Area Alliance invites you to an informational reception Jan. 16&nbsp\;at 5:30 p.m. to learn about&nbsp\;the upcoming business mission/cultural tour of&nbsp\;Northern Italy.&nbsp\;&nbsp\;<br />\n<br />\nOur 2013 destination is northern Italy\, where visits include the city of Varese\, the northern Italian lake region\, Milan\, Parma\, Florence (with a touch of Tuscany) and Venice\, May 7 through 17&nbsp\;.<br />\n<br />\nClick <a href="http://t.democracydirect.com/?ti_dn__=268b4785-d44a-44c2-98e2-c255a3ea9b99&amp\;__u_idz=ec0a7f23-1a27-4757-a314-44d56c9b8ee0&amp\;__turl=http%3a%2f%2fold.charlestonareaalliance.org%2fshared%2fcontent%2f2013%2520Italy%2520Trip%2fCAA%25202013%2520Northern%2520Italy%2520May%25207-17%2c%25202013%2520brochure%2520final.pdf"><span style="color: rgb(0\, 0\, 255)\;">HERE</span></a>for the trip brochure.<br />\n<br />\nWhether you are interested in working with the Alliance staff to create a personalized business itinerary\, or simply wish to learn more about these culturally rich regions\, you will find this trip exceptional.<br />\n<br />\nIt&#39\;s a great trip for businesses that want to explore exporting\, importing\, joint ventures or other business activities. Work with Alliance staff now so very specialized meetings can be set up to meet your needs.<br />\n<br />\nPlease join fellow Charleston Area Alliance members and friends as we journey together to Italy this spring.<span _fck_bookmark="1" style="display: none\;">&nbsp\;</span><br />\n<br />\nThe reception will be held at the National Travel office located at 164 Court Street (Shonk Plaza) across from Town Center Mall.<br />\n<br />\nIf you&#39\;d like to attend the reception\, please RSVP via the registration link above.&nbsp\;</span></span><br />\n<br />\n&nbsp\;
LOCATION:National Travel Shonk Plaza 164 Court Street Charleston\, WV 25301 *across from Town Center Mall
UID:e.1499.516
SEQUENCE:3
DTSTAMP:20260422T152910Z
URL:https://business.charlestonareaalliance.org/events/details/join-us-in-italy-informational-meeting-and-details-for-2013-01-16-2013-516
END:VEVENT

END:VCALENDAR
