BEGIN:VCALENDAR
VERSION:2.0
PRODID:-//ChamberMaster//Event Calendar 2.0//EN
METHOD:PUBLISH
X-PUBLISHED-TTL:P3D
REFRESH-INTERVAL:P3D
CALSCALE:GREGORIAN
BEGIN:VEVENT
DTSTART:20180110T123000Z
DTEND:20180110T140000Z
X-MICROSOFT-CDO-ALLDAYEVENT:FALSE
SUMMARY:Issues & Eggs Legislative Breakfast 2018
DESCRIPTION:Join the Charleston Regional Chamber of Commerce for its annual Issues & Eggs legislative breakfast Wednesday\, Jan. 10\, 2018 at the Charleston Marriott Town Center.  \n\n\n\nFor more than 50 years\, Issues & Eggs has served as an enriching kickoff for the legislative session and shines a spotlight on policies that promote Kanawha County business and advance economic development and growth throughout the state.\n\n\n\nHear directly from representatives on issues that matter to your business. More than 400 business and community leaders are expected to attend. \n\n\n\nWith keynote remarks by West Virginia's legislative leaders and a preview of the Chamber's current-year legislative agenda\, Issues & Eggs supports the Chamber's efforts to champion economic prosperity and quality of life for the Kanawha Valley.\n\n\n\nLocation:\n\nCharleston Marriott Town Center\n\n200 Lee Street\, East\n\nCharleston\, WV 25301\n\n\n\nDate/Time Information:\n\nWednesday\, Jan. 10\n\n7:30 a.m.  Check In\n\n8 - 9:15 a.m.  Breakfast Program\n\n\n\nFees/Admission:\n\n$50 for Alliance members\n\n$60 for future Alliance members.\n\nAdd $10 if registering after Jan. 5.  \n\n\n\nClick here to learn more about joining the Charleston Area Alliance\n\n\n\nInvoicing is available for groups of 10 or more. No refunds are issued within 48 hours of the event. Please email Paula Sims with any dietary requests or restrictions. \n\n\n\nThe Charleston Regional Chamber of Commerce is an affiliate of the Charleston Area Alliance.
X-ALT-DESC;FMTTYPE=text/html:Join the Charleston Regional Chamber of Commerce for its annual Issues &amp\; Eggs legislative breakfast Wednesday\, Jan. 10\, 2018 at the Charleston Marriott Town Center.&nbsp\;&nbsp\;<br />\n<br />\nFor more than 50 years\, Issues &amp\; Eggs has served as an enriching kickoff for the legislative session and shines a spotlight on policies that promote&nbsp\;Kanawha&nbsp\;County&nbsp\;business and advance economic development and growth throughout the state.<br />\n<br />\nHear&nbsp\;directly from representatives on issues that matter to your business. More than 400 business and community leaders are expected to attend.&nbsp\;<br />\n<br />\nWith keynote remarks by West Virginia&rsquo\;s legislative leaders and a preview of the Chamber&rsquo\;s current-year legislative agenda\,&nbsp\;Issues &amp\; Eggs supports the Chamber&rsquo\;s efforts to champion economic&nbsp\;prosperity and quality of life for the Kanawha Valley.<br />\n<br />\n<strong>Location:</strong><br />\nCharleston Marriott Town Center<br />\n200 Lee Street\, East<br />\nCharleston\, WV 25301<br />\n<br />\n<strong>Date/Time Information:</strong><br />\nWednesday\, Jan. 10<br />\n7:30 a.m.&nbsp\; Check In<br />\n8 - 9:15 a.m.&nbsp\; Breakfast Program<br />\n<br />\n<strong>Fees/Admission:</strong><br />\n$50 for Alliance members<br />\n$60 for future Alliance members.<br />\nAdd $10 if registering after Jan. 5.&nbsp\;&nbsp\;<br />\n<br />\n<a href="http://charlestonareaalliance.org/member/newmemberapp" target="_blank">Click here</a>&nbsp\;to learn more about joining the Charleston Area Alliance<br />\n<br />\nInvoicing is available for groups of 10 or more.&nbsp\;No refunds are issued within 48 hours of the event.&nbsp\;Please email&nbsp\;<a href="mailto:psims@charlestonareaalliance.org?subject=Elevations%20Dietary%20Request%2FRestriction">Paula Sims</a>&nbsp\;with any dietary requests or restrictions.&nbsp\;<br />\n<br />\nThe Charleston Regional Chamber of Commerce is an affiliate of the Charleston Area Alliance.
LOCATION:
UID:e.1499.1974
SEQUENCE:3
DTSTAMP:20260421T104735Z
URL:https://business.charlestonareaalliance.org/events/details/issues-eggs-legislative-breakfast-2018-1974
END:VEVENT

END:VCALENDAR
