BEGIN:VCALENDAR
VERSION:2.0
PRODID:-//ChamberMaster//Event Calendar 2.0//EN
METHOD:PUBLISH
X-PUBLISHED-TTL:P3D
REFRESH-INTERVAL:P3D
CALSCALE:GREGORIAN
BEGIN:VEVENT
DTSTART:20130213T123000Z
DTEND:20130213T140000Z
X-MICROSOFT-CDO-ALLDAYEVENT:FALSE
SUMMARY:Issues & Eggs Legislative Breakfast 2013
DESCRIPTION:$5 pre-pay parking at the Marriott garage entry has been arranged for Issues & Eggs to prevent long lines when exiting after this event.\n\n	 \n\n	\n\n	Issues & Eggs\, West Virginia's original legislative breakfast\, is coming Feb. 13 to the Charleston Marriott Town Center. Network over breakfast from 7:30 to 9 a.m. with colleagues and legislators as you learn about the hot topics slated for this legislative session.\n\n	Join the Charleston Regional Chamber of Commerce in its more than 50-year tradition of bringing lawmakers and business and community leaders face to face to discuss the issues that will shape our state's future.  Issues & Eggs\, the largest and first legislative breakfast in the state\, draws a sell-out crowd. Previous breakfasts have drawn more than 70 legislators and 250 business leaders.\n\n	"As we prepare for another legislative session\, the Charleston Chamber wants to be proactive and introduce innovative ideas\," said Matt Ballard\, the Chamber's president and CEO. "At the same time\, we want to keep a look out for policies and bills that could impact the region and state."\n\n	"Issues & Eggs presents an excellent opportunity for you to hear directly from your representatives on the issues that matter to you and your business\," Ballard said. "Issues & Eggs typically draws a sold-out crowd and is one of our most anticipated and popular events of the year."\n\n	The event will feature a preview of the Chamber's 2012 legislative agenda\, keynote address and Q&A session.\n\n	Tickets are $35 for members and $45 for future members. Prices increase to $45 and $55 after Feb. 6.\n\n	\n\n	Sponsorship opportunities available:\n\n	Showcase your investment in the future of our region by becoming an Issues & Eggs sponsor. Participation at these levels provides an array of exclusive recognition benefits and a highly visible showcase for your investment in the future of our community.  Sponsorship reservation deadline for this year's anticipated event is Jan 31\, 2013. Click here to register your sponsorship online.\n\n	\n\n	VIP Sponsor - ($5000)\n\n	- VIP reserved seating for two tables of eight guests (16 total) with table assignment priority. You will be joined by one state legislator per table.\n\n	- Prominent acknowledgement in formal presentation.\n\n	- Priority placement of sponsor logo on event Web site\, printed program and all promotional materials (deadline: Jan 31st).\n\n	- Prominent signage.\n\n	- Opportunity for a table-top exhibit to display information on products\, services or other relevant materials.\n\n	\n\n	Celebration Sponsor - ($2500)\n\n	- VIP reserved seating for one table of eight guests with table assignment priority. You will be joined by one state legislator.\n\n	- Acknowledgement in formal presentation.\n\n	- Prominent placement of sponsor logo on event Web site\, printed program and all promotional materials (deadline: December 30)\n\n	- Signage.\n\n	- Opportunity for a table-top exhibit to display information on products\, services or other relevant materials.\n\n	\n\n	Leadership Sponsor - ($1500)\n\n	- VIP reserved seating for one table of eight guests. You will be joined by one state legislator.\n\n	- Acknowledgement in formal presentation.\n\n	- Inclusion of sponsor logo on event Web site\, event program and all promotional materials (Deadline: Jan 31st).\n\n	- Signage.\n\n	\n\n	\n\n	Please direct sponsorship questions to Leigh Anne Strickland\, Director of Member Programs & Services. Email Leigh Anne.
X-ALT-DESC;FMTTYPE=text/html:<p style="color: rgb(0\, 0\, 0)\; font-family: arial\, &quot\;trebuchet ms&quot\;\, monospace\, sans_serif\; font-size: 16px\;">\n	&nbsp\;</p>\n<p style="color: rgb(0\, 0\, 0)\; font-family: arial\, &quot\;trebuchet ms&quot\;\, monospace\, sans_serif\; font-size: 16px\;">\n	<span style="color: rgb(178\, 34\, 34)\;">$5 pre-pay parking at the Marriott garage entry has been arranged for Issues &amp\; Eggs to prevent long lines when exiting after this event.</span><br />\n	&nbsp\;</p>\n<p style="color: rgb(0\, 0\, 0)\; font-family: arial\, &quot\;trebuchet ms&quot\;\, monospace\, sans_serif\; font-size: 16px\;">\n	<br />\n	Issues &amp\; Eggs\, West Virginia&#39\;s original legislative breakfast\, is coming Feb. 13 to the Charleston Marriott Town Center. Network over breakfast from 7:30 to 9 a.m. with colleagues and legislators as you learn about the hot topics slated for this legislative session.</p>\n<p style="color: rgb(0\, 0\, 0)\; font-family: arial\, &quot\;trebuchet ms&quot\;\, monospace\, sans_serif\; font-size: 16px\;">\n	Join the Charleston Regional Chamber of Commerce in its more than 50-year tradition of bringing lawmakers and business and community leaders face to face to discuss the issues that will shape our state&rsquo\;s future.&nbsp\; Issues &amp\; Eggs\, the largest and first legislative breakfast in the state\, draws a sell-out crowd. Previous breakfasts have drawn more than 70 legislators and 250 business leaders.</p>\n<p style="color: rgb(0\, 0\, 0)\; font-family: arial\, &quot\;trebuchet ms&quot\;\, monospace\, sans_serif\; font-size: 16px\;">\n	&ldquo\;As we prepare for another legislative session\, the Charleston Chamber wants to be proactive and introduce innovative ideas\,&rdquo\; said Matt Ballard\, the Chamber&rsquo\;s president and CEO. &ldquo\;At the same time\, we want to keep a look out for policies and bills that could impact the region and state.&rdquo\;</p>\n<p style="color: rgb(0\, 0\, 0)\; font-family: arial\, &quot\;trebuchet ms&quot\;\, monospace\, sans_serif\; font-size: 16px\;">\n	&ldquo\;Issues &amp\; Eggs presents an excellent opportunity for you to hear directly from your representatives on the issues that matter to you and your business\,&rdquo\; Ballard said. &ldquo\;Issues &amp\; Eggs typically draws a sold-out crowd and is one of our most anticipated and popular events of the year.&rdquo\;</p>\n<p style="color: rgb(0\, 0\, 0)\; font-family: arial\, &quot\;trebuchet ms&quot\;\, monospace\, sans_serif\; font-size: 16px\;">\n	The event will feature a preview of the Chamber&rsquo\;s 2012 legislative agenda\, keynote address and Q&amp\;A session.</p>\n<p style="color: rgb(0\, 0\, 0)\; font-family: arial\, &quot\;trebuchet ms&quot\;\, monospace\, sans_serif\; font-size: 16px\;">\n	Tickets are $35 for members and $45 for future members. Prices increase to $45 and $55 after Feb. 6.<br />\n	<br />\n	<strong>Sponsorship opportunities available:</strong><br />\n	Showcase your investment in the future of our region by becoming an Issues &amp\; Eggs sponsor. Participation at these levels provides an array of exclusive recognition benefits and a highly visible showcase for your investment in the future of our community. &nbsp\;Sponsorship reservation deadline for this year&#39\;s anticipated event is Jan 31\, 2013. <a href="http://charlestonareaalliance.chambermaster.com/Events/details/issues-eggs-legislative-breakfast-2013-sponsors-541">Click here to register your sponsorship online</a>.<br />\n	<br />\n	<span style="font-size: 12px\;"><strong><span style="color: rgb(0\, 0\, 205)\;">VIP Sponsor - ($5000)</span></strong><br />\n	- VIP reserved seating for two tables of eight guests (16 total) with table assignment priority. You will be joined by one state legislator per table.<br />\n	- Prominent acknowledgement in formal presentation.<br />\n	- Priority placement of sponsor logo on event Web site\, printed program and all promotional materials (deadline: Jan 31st).<br />\n	- Prominent signage.<br />\n	- Opportunity for a table-top exhibit to display information on products\, services or other relevant materials.</span><br />\n	<br />\n	<span style="font-size: 12px\;"><span style="color: rgb(0\, 0\, 205)\;"><strong>Celebration Sponsor - ($2500)</strong></span><br />\n	- VIP reserved seating for one table of eight guests with table assignment priority. You will be joined by one state legislator.<br />\n	- Acknowledgement in formal presentation.<br />\n	- Prominent placement of sponsor logo on event Web site\, printed program and all promotional materials (deadline: December 30)<br />\n	- Signage.<br />\n	- Opportunity for a table-top exhibit to display information on products\, services or other relevant materials.<br />\n	<br />\n	<span style="color: rgb(0\, 0\, 205)\;"><strong>Leadership Sponsor - ($1500)</strong></span><br />\n	- VIP reserved seating for one table of eight guests. You will be joined by one state legislator.<br />\n	- Acknowledgement in formal presentation.<br />\n	- Inclusion of sponsor logo on event Web site\, event program and all promotional materials (Deadline: Jan 31st).<br />\n	- Signage.</span><br />\n	<br />\n	<br />\n	Please direct sponsorship questions to Leigh Anne Strickland\, Director of Member Programs &amp\; Services. <a href="mailto:LStrickland@charlestonareaalliance.org?subject=Issues%20%26%20Eggs%20Inquiry">Email Leigh Anne</a>.<br />\n	<br />\n	<br />\n	<br />\n	<br />\n	<br />\n	<br />\n	<br />\n	&nbsp\;</p>\n
LOCATION:Charleston Marriott Town Center 200 Lee Street East Charleston\, WV 25301
UID:e.1499.540
SEQUENCE:3
DTSTAMP:20260422T140229Z
URL:https://business.charlestonareaalliance.org/events/details/issues-eggs-legislative-breakfast-2013-02-13-2013-540
END:VEVENT

END:VCALENDAR
