BEGIN:VCALENDAR
VERSION:2.0
PRODID:-//ChamberMaster//Event Calendar 2.0//EN
METHOD:PUBLISH
X-PUBLISHED-TTL:P3D
REFRESH-INTERVAL:P3D
CALSCALE:GREGORIAN
BEGIN:VEVENT
DTSTART:20160113T133000Z
DTEND:20160113T151500Z
X-MICROSOFT-CDO-ALLDAYEVENT:FALSE
SUMMARY:Issues & Eggs 2016
DESCRIPTION:Issues & Eggs Legislative Breakfast\n\nWednesday\, January 13\n\n8:00-9:15 a.m. - Program\n\nCharleston Marriott Town Center\n\nCheck-in will open at 7:30 a.m.\n\n\n\nSave the date for January 13 for the Charleston Regional Chamber of Commerce annual Issues & Eggs Legislative Breakfast.\n\n\n\nMore than 400 delegates\, senators and business leaders are expected for West Virginia's original and largest legislative breakfast\, which will be held at the Charleston Marriott Town Center. AEP is the title sponsor of the 2016 Issues & Eggs Legislative Breakfast. \n\n\n\nJoin the Charleston Chamber in its more than 50-year tradition of bringing lawmakers and business and community leaders face-to-face to discuss the issues that will shape our state's future.\n\n\n\n"The event presents an excellent opportunity for you to hear directly from your representatives on the issues that matter to you and your business\," said Matt Ballard\, president and CEO. "Issues & Eggs typically draws a sold-out crowd and is one of our most anticipated and popular events of the year."\n\n\n\nThe event will feature a preview of the Chamber's 2016 legislative agenda\, remarks by Senate President Bill Cole and Speaker of the House of Delegates Tim Armstead and a Q&A session.\n\n\n\nCheck-in will open at 7:30 a.m. and the program will begin at 8 a.m.\n\n\n\nTickets are $45 for members and $55 for future members. Prices increase to $55 and $65 after January 8.\n\n\n\nInvoicing available for groups of 10 or more. No cancellation refunds within 48 hours of the event.
X-ALT-DESC;FMTTYPE=text/html:<strong>Issues &amp\; Eggs Legislative Breakfast</strong><br />\nWednesday\, January 13<br />\n8:00-9:15 a.m. - Program<br />\nCharleston Marriott Town Center<br />\nCheck-in will open at 7:30 a.m.<br />\n<br />\nSave the date for January 13 for the Charleston Regional Chamber of Commerce annual Issues &amp\; Eggs Legislative Breakfast.<br />\n<br />\nMore than 400 delegates\, senators and business leaders are expected for West Virginia&#39\;s original and largest legislative breakfast\, which will be held at the Charleston Marriott Town Center. AEP is the title sponsor of the 2016 Issues &amp\; Eggs Legislative Breakfast.&nbsp\;<br />\n<br />\nJoin the Charleston Chamber in its more than 50-year tradition of bringing lawmakers and business and community leaders face-to-face to discuss the issues that will shape our state&#39\;s future.<br />\n<br />\n&quot\;The event presents an excellent opportunity for you to hear directly from your representatives on the issues that matter to you and your business\,&quot\; said Matt Ballard\, president and CEO. &quot\;Issues &amp\; Eggs typically draws a sold-out crowd and is one of our most anticipated and popular events of the year.&quot\;<br />\n<br />\nThe event will feature a preview of the Chamber&#39\;s 2016 legislative agenda\, remarks by Senate President Bill Cole and Speaker of the House of Delegates Tim Armstead and a Q&amp\;A session.<br />\n<br />\nCheck-in will open at 7:30 a.m. and the program will begin at 8 a.m.<br />\n<br />\nTickets are $45 for members and $55 for future members. Prices increase to $55 and $65 after January 8.<br />\n<br />\nInvoicing available&nbsp\;for groups of 10 or more. No cancellation refunds within 48 hours of the event.
LOCATION:Charleston Town Center Marriott 200 Lee St E\, Charleston\, WV 25301
UID:e.1499.818
SEQUENCE:3
DTSTAMP:20260420T182232Z
URL:https://business.charlestonareaalliance.org/events/details/issues-eggs-2016-01-13-2016-818
END:VEVENT

END:VCALENDAR
