BEGIN:VCALENDAR
VERSION:2.0
PRODID:-//ChamberMaster//Event Calendar 2.0//EN
METHOD:PUBLISH
X-PUBLISHED-TTL:P3D
REFRESH-INTERVAL:P3D
CALSCALE:GREGORIAN
BEGIN:VEVENT
DTSTART:20100113T050000Z
DTEND:20100113T050000Z
X-MICROSOFT-CDO-ALLDAYEVENT:FALSE
SUMMARY:Issues & Eggs 2010 Paid Attendees
DESCRIPTION:
X-ALT-DESC;FMTTYPE=text/html:
LOCATION:Charleston Marriott
UID:e.1499.311
SEQUENCE:3
DTSTAMP:20260425T230128Z
URL:https://business.charlestonareaalliance.org/events/details/issues-eggs-2010-paid-attendees-01-13-2010-311
END:VEVENT

END:VCALENDAR
