BEGIN:VCALENDAR
VERSION:2.0
PRODID:-//ChamberMaster//Event Calendar 2.0//EN
METHOD:PUBLISH
X-PUBLISHED-TTL:P3D
REFRESH-INTERVAL:P3D
CALSCALE:GREGORIAN
BEGIN:VEVENT
DTSTART:20130403T154500Z
DTEND:20130403T170000Z
X-MICROSOFT-CDO-ALLDAYEVENT:FALSE
SUMMARY:Investor Institute - April 2013
DESCRIPTION:Investor Institute provides leaders from the organizations participating with the Alliance at the ROI Investor level an opportunity to connect with high profile guests and keep abreast of new economic and community development projects and initiatives. Invited guests are notified in advance with non-transferrable invitations.\n\n\n\nThe Charleston Area Alliance offers a range of innovative programs through which our Investors can play a leading role in building a more vibrant community and prosperous economy - and make a sound investment in their own success.\n\n\n\nThese avenues for partnership enable Investors to showcase their commitment to our region through highly visible initiatives and events\, and advance the Alliance's progress in attracting new jobs and investments to our region\, helping local businesses accelerate profitability\, launching visionary cultural enhancements and developing the talent and resources that sustain success - today and tomorrow.\n\n\n\nOffered to Alliance members who pledge a three-year investment in the specified amount over and above their annual dues requirement and general contributions to economic and community development\, certain contributions may be tax-deductible in whole or in part as business or charitable contributions. The Alliance is always pleased to further discuss and explore these options and tailor support to match the goals and priorities of interested organizations.\n\n\n\nContact JoEllen Zacks with inquiries and requests for additional information.
X-ALT-DESC;FMTTYPE=text/html:Investor Institute provides leaders from the organizations participating with the Alliance at the&nbsp\;ROI Investor level an opportunity to connect with high profile guests and keep abreast of&nbsp\;new economic and community development projects and initiatives.&nbsp\;Invited guests are notified in advance with non-transferrable invitations.<br />\n<br />\nThe Charleston Area Alliance offers a range of innovative programs through which our Investors can play a leading role in building&nbsp\;a more vibrant community and prosperous economy - and make a sound investment in their own success.<br />\n<br />\nThese avenues for partnership enable Investors to <strong>showcase their commitment to our region </strong>through <strong>highly visible</strong> initiatives and events\, and advance the Alliance&#39\;s progress in attracting new jobs and investments to our region\, helping local businesses accelerate profitability\, launching visionary cultural enhancements and developing the talent and resources that sustain success - today and tomorrow.<br />\n<br />\nOffered to Alliance members who pledge a three-year investment in the specified amount over and above their annual dues requirement and general contributions to economic and community development\, certain contributions may be tax-deductible in whole or in part as business or charitable contributions. The Alliance is always pleased to further discuss and explore these options and tailor support to match the goals and priorities of interested organizations.<br />\n<br />\nContact <a href="mailto:JZacks@charlestonareaalliance.org?subject=ROI%20Inquiry">JoEllen Zacks </a>with inquiries and requests for additional information. 
LOCATION:Edgewood Country Club 1600 Edgewood Drive Charleston\, WV 25302
UID:e.1499.640
SEQUENCE:3
DTSTAMP:20260422T114731Z
URL:https://business.charlestonareaalliance.org/events/details/investor-institute-april-2013-04-03-2013-640
END:VEVENT

END:VCALENDAR
